BEGIN:VCALENDAR
VERSION:2.0
PRODID:-//Paperny Family JCC - ECPv6.15.12.2//NONSGML v1.0//EN
CALSCALE:GREGORIAN
METHOD:PUBLISH
X-WR-CALNAME:Paperny Family JCC
X-ORIGINAL-URL:https://www.calgaryjcc.com
X-WR-CALDESC:Events for Paperny Family JCC
REFRESH-INTERVAL;VALUE=DURATION:PT1H
X-Robots-Tag:noindex
X-PUBLISHED-TTL:PT1H
BEGIN:VTIMEZONE
TZID:America/Edmonton
BEGIN:DAYLIGHT
TZOFFSETFROM:-0700
TZOFFSETTO:-0600
TZNAME:MDT
DTSTART:20200308T090000
END:DAYLIGHT
BEGIN:STANDARD
TZOFFSETFROM:-0600
TZOFFSETTO:-0700
TZNAME:MST
DTSTART:20201101T080000
END:STANDARD
BEGIN:DAYLIGHT
TZOFFSETFROM:-0700
TZOFFSETTO:-0600
TZNAME:MDT
DTSTART:20210314T090000
END:DAYLIGHT
BEGIN:STANDARD
TZOFFSETFROM:-0600
TZOFFSETTO:-0700
TZNAME:MST
DTSTART:20211107T080000
END:STANDARD
BEGIN:DAYLIGHT
TZOFFSETFROM:-0700
TZOFFSETTO:-0600
TZNAME:MDT
DTSTART:20220313T090000
END:DAYLIGHT
BEGIN:STANDARD
TZOFFSETFROM:-0600
TZOFFSETTO:-0700
TZNAME:MST
DTSTART:20221106T080000
END:STANDARD
END:VTIMEZONE
BEGIN:VEVENT
DTSTART;TZID=America/Edmonton:20210414T180000
DTEND;TZID=America/Edmonton:20210414T193000
DTSTAMP:20260423T041421
CREATED:20210323T154630Z
LAST-MODIFIED:20210429T232106Z
UID:3729-1618423200-1618428600@www.calgaryjcc.com
SUMMARY:Yom HaAtzmaut: Moments of Pride Through Israeli Innovation
DESCRIPTION:Calgary JCC and the JCC Association of North America invite you to join us on VirtualJCC.com for “Yom HaAtzmaut: Moments of Pride Through Israeli Innovation.” Seventy-three years after its founding\, Israel is full of innovative social entrepreneurs. On Israeli Independence Day\, we’ll meet three of these entrepreneurs whose work has advanced innovations in cybersecurity\, agriculture\, and emergency health care. Each one will be interviewed by a renowned Israeli author from their own company’s headquarters. \nWednesday\, April 14 at 6:00pm MDT | Free \nRegister online below.
URL:https://www.calgaryjcc.com/event/yom-haatzmaut-moments-of-pride-throught-israeli-innovation/
CATEGORIES:Arts & Culture
ATTACH;FMTTYPE=image/png:https://www.calgaryjcc.com/wp-content/uploads/2021/03/yh21_web.png
END:VEVENT
END:VCALENDAR