BEGIN:VCALENDAR
VERSION:2.0
PRODID:-//Paperny Family JCC - ECPv6.15.12.2//NONSGML v1.0//EN
CALSCALE:GREGORIAN
METHOD:PUBLISH
X-ORIGINAL-URL:https://www.calgaryjcc.com
X-WR-CALDESC:Events for Paperny Family JCC
REFRESH-INTERVAL;VALUE=DURATION:PT1H
X-Robots-Tag:noindex
X-PUBLISHED-TTL:PT1H
BEGIN:VTIMEZONE
TZID:America/Edmonton
BEGIN:DAYLIGHT
TZOFFSETFROM:-0700
TZOFFSETTO:-0600
TZNAME:MDT
DTSTART:20220313T090000
END:DAYLIGHT
BEGIN:STANDARD
TZOFFSETFROM:-0600
TZOFFSETTO:-0700
TZNAME:MST
DTSTART:20221106T080000
END:STANDARD
BEGIN:DAYLIGHT
TZOFFSETFROM:-0700
TZOFFSETTO:-0600
TZNAME:MDT
DTSTART:20230312T090000
END:DAYLIGHT
BEGIN:STANDARD
TZOFFSETFROM:-0600
TZOFFSETTO:-0700
TZNAME:MST
DTSTART:20231105T080000
END:STANDARD
BEGIN:DAYLIGHT
TZOFFSETFROM:-0700
TZOFFSETTO:-0600
TZNAME:MDT
DTSTART:20240310T090000
END:DAYLIGHT
BEGIN:STANDARD
TZOFFSETFROM:-0600
TZOFFSETTO:-0700
TZNAME:MST
DTSTART:20241103T080000
END:STANDARD
END:VTIMEZONE
BEGIN:VEVENT
DTSTART;TZID=America/Edmonton:20230416T110000
DTEND;TZID=America/Edmonton:20230416T130000
DTSTAMP:20260421T191830
CREATED:20230207T215029Z
LAST-MODIFIED:20230614T040700Z
UID:10000737-1681642800-1681650000@www.calgaryjcc.com
SUMMARY:Bouncy Castle Day
DESCRIPTION:Bring the family for a great time in our giant bouncy castle! \nFree for members | Drop-in fee for public. \nFor more information\, email Cherlene Magnuson or call 403-444-3159. \nView poster
URL:https://www.calgaryjcc.com/event/bouncy-castle-day/2023-04-16/
LOCATION:AB
CATEGORIES:Membership
ATTACH;FMTTYPE=image/png:https://www.calgaryjcc.com/wp-content/uploads/2023/02/bc23_web.png
END:VEVENT
BEGIN:VEVENT
DTSTART;TZID=America/Edmonton:20230416T130000
DTEND;TZID=America/Edmonton:20230416T150000
DTSTAMP:20260421T191830
CREATED:20230324T222857Z
LAST-MODIFIED:20230324T222857Z
UID:10000759-1681650000-1681657200@www.calgaryjcc.com
SUMMARY:Good Deeds Day 2023
DESCRIPTION:Do good and help offset the food crisis by donating* non-perishables or help pack food hampers to be distributed to Ukranian refugees in Calgary. Donation ideas:\n• Canned soup\n• Dry pasta and pasta sauce\n• Canned vegetables/beans\n• Canned fruit\n• Fruit snacks\n• Jam\n• Crackers\n• Evaporated milk\n• Other non-perishable food items\n*Donate items at the JCC between March 27 and April 14. \nSupport this initiative with a monetary donation and / or register to volunteer. \nIn collaboration with Paperny Family JCC\, Calgary Jewish Federation\, BBYO\, and Good Deeds Day.
URL:https://www.calgaryjcc.com/event/good-deeds-day-2023/
LOCATION:Calgary JCC\, 1607 90 Avenue SW\, Calgary\, AB\, T2V 4V7\, Canada
ATTACH;FMTTYPE=image/png:https://www.calgaryjcc.com/wp-content/uploads/2023/03/gd23_web.png
END:VEVENT
END:VCALENDAR