BEGIN:VCALENDAR
VERSION:2.0
PRODID:-//Paperny Family JCC - ECPv6.15.12.2//NONSGML v1.0//EN
CALSCALE:GREGORIAN
METHOD:PUBLISH
X-ORIGINAL-URL:https://www.calgaryjcc.com
X-WR-CALDESC:Events for Paperny Family JCC
REFRESH-INTERVAL;VALUE=DURATION:PT1H
X-Robots-Tag:noindex
X-PUBLISHED-TTL:PT1H
BEGIN:VTIMEZONE
TZID:America/Edmonton
BEGIN:DAYLIGHT
TZOFFSETFROM:-0700
TZOFFSETTO:-0600
TZNAME:MDT
DTSTART:20220313T090000
END:DAYLIGHT
BEGIN:STANDARD
TZOFFSETFROM:-0600
TZOFFSETTO:-0700
TZNAME:MST
DTSTART:20221106T080000
END:STANDARD
BEGIN:DAYLIGHT
TZOFFSETFROM:-0700
TZOFFSETTO:-0600
TZNAME:MDT
DTSTART:20230312T090000
END:DAYLIGHT
BEGIN:STANDARD
TZOFFSETFROM:-0600
TZOFFSETTO:-0700
TZNAME:MST
DTSTART:20231105T080000
END:STANDARD
BEGIN:DAYLIGHT
TZOFFSETFROM:-0700
TZOFFSETTO:-0600
TZNAME:MDT
DTSTART:20240310T090000
END:DAYLIGHT
BEGIN:STANDARD
TZOFFSETFROM:-0600
TZOFFSETTO:-0700
TZNAME:MST
DTSTART:20241103T080000
END:STANDARD
END:VTIMEZONE
BEGIN:VEVENT
DTSTART;TZID=America/Edmonton:20231029T100000
DTEND;TZID=America/Edmonton:20231029T120000
DTSTAMP:20260423T012906
CREATED:20230926T222330Z
LAST-MODIFIED:20230927T222735Z
UID:10000897-1698573600-1698580800@www.calgaryjcc.com
SUMMARY:Bouncy Castle Day
DESCRIPTION:Bring the family for a great time in our giant bouncy castle! \nFree for members | Drop-in fee for public. \nFor more information\, email Cherlene Magnuson or call 403-444-3159.
URL:https://www.calgaryjcc.com/event/bouncy-castle-day-2/2023-10-29/
LOCATION:Calgary JCC\, 1607 90 Avenue SW\, Calgary\, AB\, T2V 4V7\, Canada
CATEGORIES:Membership
ATTACH;FMTTYPE=image/png:https://www.calgaryjcc.com/wp-content/uploads/2023/09/bc23_web_fall-2.png
END:VEVENT
BEGIN:VEVENT
DTSTART;TZID=America/Edmonton:20231029T120000
DTEND;TZID=America/Edmonton:20231029T140000
DTSTAMP:20260423T012906
CREATED:20231004T171327Z
LAST-MODIFIED:20231004T211220Z
UID:10000910-1698580800-1698588000@www.calgaryjcc.com
SUMMARY:Teen Connect - Jewish Mysticism
DESCRIPTION:From dybbuks and Leviathan to golems and vampires\, come join Teen Connect at Paperny Family JCC to talk Jewish mysticism and ghost stories! You’ll get to carve a pumpkin\, enjoy some snacks and learn something new about Jewish traditions on the spooky and supernatural. \nRSVP by email Ishmaeli Goldstein. \n 
URL:https://www.calgaryjcc.com/event/teen-connect-mysticism/
LOCATION:Activate\, #146\, 13226 Macleod Trail SE\, Calgary\, Alberta\, Canada
CATEGORIES:Teen
ATTACH;FMTTYPE=image/png:https://www.calgaryjcc.com/wp-content/uploads/2023/10/tc23_web2.png
END:VEVENT
BEGIN:VEVENT
DTSTART;TZID=America/Edmonton:20231029T180000
DTEND;TZID=America/Edmonton:20231029T200000
DTSTAMP:20260423T012906
CREATED:20231004T171903Z
LAST-MODIFIED:20231020T165553Z
UID:10000911-1698602400-1698609600@www.calgaryjcc.com
SUMMARY:Unity Through Music - A Concert for Israel
DESCRIPTION:Join us for Unity Through Music – A Concert for Israel featuring: \n\nZe’ev Berger and the Schmoozers\nJCC Voices Adult Choir\nJam with our best local musicians\n\nMinimum donation $20 per person. Proceeds will go to Calgary Jewish Federation‘s Israel Emergency Fund. \nPurchase your tickets online or at Customer Service Desk. \nFor more information\, e-mail Yanina Rabinovitch. \n 
URL:https://www.calgaryjcc.com/event/unity-through-music/
LOCATION:Calgary JCC\, 1607 90 Avenue SW\, Calgary\, AB\, T2V 4V7\, Canada
CATEGORIES:Arts & Culture
ATTACH;FMTTYPE=image/png:https://www.calgaryjcc.com/wp-content/uploads/2023/10/um23_web.png
END:VEVENT
END:VCALENDAR