BEGIN:VCALENDAR
VERSION:2.0
PRODID:-//Paperny Family JCC - ECPv6.15.12.2//NONSGML v1.0//EN
CALSCALE:GREGORIAN
METHOD:PUBLISH
X-ORIGINAL-URL:https://www.calgaryjcc.com
X-WR-CALDESC:Events for Paperny Family JCC
REFRESH-INTERVAL;VALUE=DURATION:PT1H
X-Robots-Tag:noindex
X-PUBLISHED-TTL:PT1H
BEGIN:VTIMEZONE
TZID:America/Edmonton
BEGIN:DAYLIGHT
TZOFFSETFROM:-0700
TZOFFSETTO:-0600
TZNAME:MDT
DTSTART:20230312T090000
END:DAYLIGHT
BEGIN:STANDARD
TZOFFSETFROM:-0600
TZOFFSETTO:-0700
TZNAME:MST
DTSTART:20231105T080000
END:STANDARD
BEGIN:DAYLIGHT
TZOFFSETFROM:-0700
TZOFFSETTO:-0600
TZNAME:MDT
DTSTART:20240310T090000
END:DAYLIGHT
BEGIN:STANDARD
TZOFFSETFROM:-0600
TZOFFSETTO:-0700
TZNAME:MST
DTSTART:20241103T080000
END:STANDARD
BEGIN:DAYLIGHT
TZOFFSETFROM:-0700
TZOFFSETTO:-0600
TZNAME:MDT
DTSTART:20250309T090000
END:DAYLIGHT
BEGIN:STANDARD
TZOFFSETFROM:-0600
TZOFFSETTO:-0700
TZNAME:MST
DTSTART:20251102T080000
END:STANDARD
END:VTIMEZONE
BEGIN:VEVENT
DTSTART;VALUE=DATE:20241127
DTEND;VALUE=DATE:20241128
DTSTAMP:20260424T122419
CREATED:20241011T213300Z
LAST-MODIFIED:20241011T213409Z
UID:10001438-1732665600-1732751999@www.calgaryjcc.com
SUMMARY:Mitzvah Food Project
DESCRIPTION:Do good and donate non-perishable food for the Calgary Food Bank and JFSC. \nDrop off anytime at the JCC lobby. \nA project by the JCC Golden Age and Arts & Culture Departments \nFor more information email Nessie Hollander
URL:https://www.calgaryjcc.com/event/mitzvah-food-project/2024-11-27/
LOCATION:Calgary JCC\, 1607 90 Avenue SW\, Calgary\, AB\, T2V 4V7\, Canada
CATEGORIES:Arts & Culture,Golden Age
ATTACH;FMTTYPE=image/png:https://www.calgaryjcc.com/wp-content/uploads/2024/10/mf24_web.png
END:VEVENT
BEGIN:VEVENT
DTSTART;TZID=America/Edmonton:20241127T100000
DTEND;TZID=America/Edmonton:20241127T203000
DTSTAMP:20260424T122419
CREATED:20241114T215944Z
LAST-MODIFIED:20241118T171530Z
UID:10001456-1732701600-1732739400@www.calgaryjcc.com
SUMMARY:Jewish Book Festival
DESCRIPTION:Enjoy Jewish literature\, meet authors\, get your Chanukah shopping done\, renew your library\, and celebrate with pride! \nBook Sale in partnership with Owl’s Nest
URL:https://www.calgaryjcc.com/event/jewish-book-festival/2024-11-27/
LOCATION:Calgary JCC\, 1607 90 Avenue SW\, Calgary\, AB\, T2V 4V7\, Canada
CATEGORIES:Arts & Culture
ATTACH;FMTTYPE=image/png:https://www.calgaryjcc.com/wp-content/uploads/2024/11/bf24_web.png
END:VEVENT
BEGIN:VEVENT
DTSTART;TZID=America/Edmonton:20241127T190000
DTEND;TZID=America/Edmonton:20241127T200000
DTSTAMP:20260424T122419
CREATED:20241114T203307Z
LAST-MODIFIED:20241114T203343Z
UID:10001450-1732734000-1732737600@www.calgaryjcc.com
SUMMARY:Jewish Book Festival - David Jay Bercuson
DESCRIPTION:Canada’s Air Force: The Royal Canadian Air Force at 100  \nJoin David Bercuson as he shares the personal journey that led him to write Canada’s Air Force: The Royal Canadian Air Force at 100. Inspired by the memory of his cousin and uncle – both named Bernard Bercuson – who served in the Royal Canadian Air Forces during the Second World War\, David was moved to dedicate this work to their legacy as Jewish service members. \n  \n 
URL:https://www.calgaryjcc.com/event/jewish-book-festival-david-jay-bercuson/
LOCATION:Calgary JCC\, 1607 90 Avenue SW\, Calgary\, AB\, T2V 4V7\, Canada
CATEGORIES:Arts & Culture
ATTACH;FMTTYPE=image/jpeg:https://www.calgaryjcc.com/wp-content/uploads/2024/11/D-Bercuson.jpg
END:VEVENT
END:VCALENDAR