BEGIN:VCALENDAR
VERSION:2.0
PRODID:-//Paperny Family JCC - ECPv6.15.12.2//NONSGML v1.0//EN
CALSCALE:GREGORIAN
METHOD:PUBLISH
X-WR-CALNAME:Paperny Family JCC
X-ORIGINAL-URL:https://www.calgaryjcc.com
X-WR-CALDESC:Events for Paperny Family JCC
REFRESH-INTERVAL;VALUE=DURATION:PT1H
X-Robots-Tag:noindex
X-PUBLISHED-TTL:PT1H
BEGIN:VTIMEZONE
TZID:America/Edmonton
BEGIN:DAYLIGHT
TZOFFSETFROM:-0700
TZOFFSETTO:-0600
TZNAME:MDT
DTSTART:20190310T090000
END:DAYLIGHT
BEGIN:STANDARD
TZOFFSETFROM:-0600
TZOFFSETTO:-0700
TZNAME:MST
DTSTART:20191103T080000
END:STANDARD
BEGIN:DAYLIGHT
TZOFFSETFROM:-0700
TZOFFSETTO:-0600
TZNAME:MDT
DTSTART:20200308T090000
END:DAYLIGHT
BEGIN:STANDARD
TZOFFSETFROM:-0600
TZOFFSETTO:-0700
TZNAME:MST
DTSTART:20201101T080000
END:STANDARD
BEGIN:DAYLIGHT
TZOFFSETFROM:-0700
TZOFFSETTO:-0600
TZNAME:MDT
DTSTART:20210314T090000
END:DAYLIGHT
BEGIN:STANDARD
TZOFFSETFROM:-0600
TZOFFSETTO:-0700
TZNAME:MST
DTSTART:20211107T080000
END:STANDARD
END:VTIMEZONE
BEGIN:VEVENT
DTSTART;VALUE=DATE:20200409
DTEND;VALUE=DATE:20200411
DTSTAMP:20260422T010834
CREATED:20200205T205008Z
LAST-MODIFIED:20210430T125240Z
UID:10000423-1586390400-1586563199@www.calgaryjcc.com
SUMMARY:Pesach in the Mountains 
DESCRIPTION:Experience a communal-led Second Seder surrounded by beautiful Kananaskis vistas at the HI Kananaskis Wilderness Hostel. Enjoy a Passover service and delicious Seder dinner\, outdoor self-guided hike and forest meditations\, campfire\, wood-burning lounge fireplace\, family-friendly activities\, and more! \nPackage includes: One-night accommodation\, catered dinner and breakfast\, wine\, and outdoor activity. \nIndividuals (16+ years): $125/person – dorm bed\n$140/person – private room of three\nFamily (2 adults\, 2 children 6-16 yrs\, children under 6 are free): $325 \nMeat not kosher. Vegetarian option available. No leavened food. \nRegister by March 27 at our Customer Service Desk at 403-253-8600\, ext.0.\nFor more information\, email Shula Banchik or call 403-537-8596.
URL:https://www.calgaryjcc.com/event/pesach-in-the-mountains/
LOCATION:HI Kananaskis Wilderness Hostel\, 1 Ribbon Creek Road\, Kananaskis\, Alberta\, T0L 2H0\, Canada
CATEGORIES:Arts & Culture,Special Event
ATTACH;FMTTYPE=image/png:https://www.calgaryjcc.com/wp-content/uploads/2020/02/ac_pesachmtns_banner.png
END:VEVENT
BEGIN:VEVENT
DTSTART;TZID=America/Edmonton:20200417T103000
DTEND;TZID=America/Edmonton:20200417T110000
DTSTAMP:20260422T010834
CREATED:20200303T230042Z
LAST-MODIFIED:20210430T125240Z
UID:10000426-1587119400-1587121200@www.calgaryjcc.com
SUMMARY:Welcome Shabbat - Pesach Special
DESCRIPTION:Join us in the JCC lobby for a family-friendly candle lighting\, kiddush\, hamotzi\, and a fun activity!
URL:https://www.calgaryjcc.com/event/welcome-shabbat-pesach-special/
LOCATION:Calgary JCC\, 1607 90 Avenue SW\, Calgary\, AB\, T2V 4V7\, Canada
CATEGORIES:Arts & Culture,Special Event
ATTACH;FMTTYPE=image/png:https://www.calgaryjcc.com/wp-content/uploads/2020/03/ac_pesach_banner.png
END:VEVENT
BEGIN:VEVENT
DTSTART;TZID=America/Edmonton:20200428T190000
DTEND;TZID=America/Edmonton:20200428T200000
DTSTAMP:20260422T010834
CREATED:20200304T170214Z
LAST-MODIFIED:20210430T125240Z
UID:10000432-1588100400-1588104000@www.calgaryjcc.com
SUMMARY:Yom HaZikaron – Israel’s Remembrance Day
DESCRIPTION:Come together in community to remember and honour IDF fallen soldiers and victims of terror. A heartfelt ceremony along with prayers\, readings\, and music.
URL:https://www.calgaryjcc.com/event/yom-hazikaron/
LOCATION:Temple B’nai Tikvah\, 900 47 Ave SW\, Calgary\, Alberta\, T2S3C8\, Canada
CATEGORIES:Arts & Culture,Special Event
ATTACH;FMTTYPE=image/png:https://www.calgaryjcc.com/wp-content/uploads/2020/03/ac_yomhazikaron_banner.png
END:VEVENT
BEGIN:VEVENT
DTSTART;TZID=America/Edmonton:20200429T180000
DTEND;TZID=America/Edmonton:20200429T200000
DTSTAMP:20260422T010834
CREATED:20200304T170750Z
LAST-MODIFIED:20210430T125240Z
UID:10000433-1588183200-1588190400@www.calgaryjcc.com
SUMMARY:Yom HaAtzmaut – Israel’s Independence Day
DESCRIPTION:Laban VeKachol night! Israel is 72 years young! Celebrate and\nsing the Israeli classics in the Koolulam* style with songstress Orit Shimoni. Dance the hora\, participate in “The Hummus Wars”\, where we will award the best hummus\, and have fun with “Blue& White” special lanterns!\n *Koolulam: a gathering of people with no singing experience\, together\, creating a musical sensation!
URL:https://www.calgaryjcc.com/event/yom-haatzmaut-israels-independence-day/
LOCATION:Calgary JCC\, 1607 90 Avenue SW\, Calgary\, AB\, T2V 4V7\, Canada
CATEGORIES:Arts & Culture,Special Event
END:VEVENT
END:VCALENDAR