BEGIN:VCALENDAR
VERSION:2.0
PRODID:-//Paperny Family JCC - ECPv6.15.12.2//NONSGML v1.0//EN
CALSCALE:GREGORIAN
METHOD:PUBLISH
X-WR-CALNAME:Paperny Family JCC
X-ORIGINAL-URL:https://www.calgaryjcc.com
X-WR-CALDESC:Events for Paperny Family JCC
REFRESH-INTERVAL;VALUE=DURATION:PT1H
X-Robots-Tag:noindex
X-PUBLISHED-TTL:PT1H
BEGIN:VTIMEZONE
TZID:America/Edmonton
BEGIN:DAYLIGHT
TZOFFSETFROM:-0700
TZOFFSETTO:-0600
TZNAME:MDT
DTSTART:20240310T090000
END:DAYLIGHT
BEGIN:STANDARD
TZOFFSETFROM:-0600
TZOFFSETTO:-0700
TZNAME:MST
DTSTART:20241103T080000
END:STANDARD
BEGIN:DAYLIGHT
TZOFFSETFROM:-0700
TZOFFSETTO:-0600
TZNAME:MDT
DTSTART:20250309T090000
END:DAYLIGHT
BEGIN:STANDARD
TZOFFSETFROM:-0600
TZOFFSETTO:-0700
TZNAME:MST
DTSTART:20251102T080000
END:STANDARD
BEGIN:DAYLIGHT
TZOFFSETFROM:-0700
TZOFFSETTO:-0600
TZNAME:MDT
DTSTART:20260308T090000
END:DAYLIGHT
BEGIN:STANDARD
TZOFFSETFROM:-0600
TZOFFSETTO:-0700
TZNAME:MST
DTSTART:20261101T080000
END:STANDARD
END:VTIMEZONE
BEGIN:VEVENT
DTSTART;TZID=America/Edmonton:20250912T103000
DTEND;TZID=America/Edmonton:20250912T110000
DTSTAMP:20260422T223432
CREATED:20250822T195956Z
LAST-MODIFIED:20250822T200146Z
UID:10002759-1757673000-1757674800@www.calgaryjcc.com
SUMMARY:Welcome Shabbat - September 2025
DESCRIPTION:The Paperny Family JCC invites you to celebrate Shabbat with songs\, candle lighting\, Kiddush\, and hamotzi.
URL:https://www.calgaryjcc.com/event/welcome-shabbat-september-2025/
LOCATION:Calgary JCC\, 1607 90 Avenue SW\, Calgary\, AB\, T2V 4V7\, Canada
CATEGORIES:Arts & Culture
ATTACH;FMTTYPE=image/png:https://www.calgaryjcc.com/wp-content/uploads/2022/03/ws22_web.png
END:VEVENT
BEGIN:VEVENT
DTSTART;TZID=America/Edmonton:20250914T100000
DTEND;TZID=America/Edmonton:20250914T160000
DTSTAMP:20260422T223432
CREATED:20250822T192019Z
LAST-MODIFIED:20250903T203813Z
UID:10002758-1757844000-1757865600@www.calgaryjcc.com
SUMMARY:Rosh HaShanah Market
DESCRIPTION:Join us for a delightful afternoon at the Rosh Hashanah Market! Indulge in a gourmet honey tasting from local Alberta beekeepers\, perfect for adding sweetness to your New Year celebrations. Experience the magic of community while finding that perfect gift\, mezuzah\, bracelet\, or decorations\, etc.
URL:https://www.calgaryjcc.com/event/rosh-hashanah-market-3/
LOCATION:Calgary JCC\, 1607 90 Avenue SW\, Calgary\, AB\, T2V 4V7\, Canada
CATEGORIES:Arts & Culture
ATTACH;FMTTYPE=image/png:https://www.calgaryjcc.com/wp-content/uploads/2025/08/rh25_web.png
END:VEVENT
BEGIN:VEVENT
DTSTART;TZID=America/Edmonton:20250914T140000
DTEND;TZID=America/Edmonton:20250914T160000
DTSTAMP:20260422T223432
CREATED:20250903T195210Z
LAST-MODIFIED:20250903T195210Z
UID:10002768-1757858400-1757865600@www.calgaryjcc.com
SUMMARY:Threads of Hope
DESCRIPTION:The Calgary Jewish Federation’s Inclusion Program and the Paperny Family JCC Arts & Culture department invite you to join us to create handmade jewelry and notes of encouragement to be delivered to communities in Israel. Together we’ll practice Tikkun olam and Tikkun ha’nefesh through creativity\, inclusion\, and giving. This is more than jewelry-making — it’s an act of hope\, healing\, and solidarity. Food drive: Bring a non-perishable food item between September 14 and 21 (kosher) to donate to The Wynne Thal Pantry. \nThis event is sponsored by Repair the World. \nRegister online for this free event.reap
URL:https://www.calgaryjcc.com/event/threads-of-hope/
LOCATION:Calgary JCC\, 1607 90 Avenue SW\, Calgary\, AB\, T2V 4V7\, Canada
CATEGORIES:Arts & Culture
END:VEVENT
BEGIN:VEVENT
DTSTART;TZID=America/Edmonton:20250918T180000
DTEND;TZID=America/Edmonton:20250918T200000
DTSTAMP:20260422T223432
CREATED:20250822T190155Z
LAST-MODIFIED:20250903T204534Z
UID:10002757-1758218400-1758225600@www.calgaryjcc.com
SUMMARY:Dough It Yourself Rosh HaShanah Challah Baking
DESCRIPTION:The JCC’s Arts & Culture and Adults 55+ departments along with Calgary Jewish Federation’s JAC invite you to make your own round challah\, symbolizing a sweet New Year. \nLearn to braid\, shape\, and add festive touches such as raisins or honey. No experience needed. Fun for all ages and experience levels. \nBook online
URL:https://www.calgaryjcc.com/event/dough-it-yourself-rosh-hashanah-challah-baking/
LOCATION:Calgary JCC\, 1607 90 Avenue SW\, Calgary\, AB\, T2V 4V7\, Canada
CATEGORIES:Arts & Culture
ATTACH;FMTTYPE=image/png:https://www.calgaryjcc.com/wp-content/uploads/2025/08/di25_web.png
END:VEVENT
BEGIN:VEVENT
DTSTART;TZID=America/Edmonton:20250929T060000
DTEND;TZID=America/Edmonton:20250929T200000
DTSTAMP:20260422T223432
CREATED:20250903T194211Z
LAST-MODIFIED:20250912T183405Z
UID:10002767-1759125600-1759176000@www.calgaryjcc.com
SUMMARY:Truth and Reconciliation Day
DESCRIPTION:Join Pearl for a meaningful drum circle\, where she will share the teachings behind the practice. \nThe program will also feature a hands-on workshop to create Orange Shirt Awareness pins in honour of Truth and Reconciliation. \nRegister for free online\, in person at the Customer Service Desk or by phone at 403-253-8600 x0 by Monday\, September 22. \nPearl White Quills is a Blackfoot Woman from the Siksikaitsitapi ~ Blackfoot Confederacy. She is an old-style jingle dress pow wow dancer\, traditional hand drum singer\, professional beadwork artist\, seamstress\, and facilitator. \n 
URL:https://www.calgaryjcc.com/event/truth-and-reconciliation-day/
LOCATION:Calgary JCC\, 1607 90 Avenue SW\, Calgary\, AB\, T2V 4V7\, Canada
CATEGORIES:Arts & Culture
ATTACH;FMTTYPE=image/png:https://www.calgaryjcc.com/wp-content/uploads/2025/09/tr25_web-2.png
END:VEVENT
END:VCALENDAR