BEGIN:VCALENDAR
VERSION:2.0
PRODID:-//Paperny Family JCC - ECPv6.15.12.2//NONSGML v1.0//EN
CALSCALE:GREGORIAN
METHOD:PUBLISH
X-WR-CALNAME:Paperny Family JCC
X-ORIGINAL-URL:https://www.calgaryjcc.com
X-WR-CALDESC:Events for Paperny Family JCC
REFRESH-INTERVAL;VALUE=DURATION:PT1H
X-Robots-Tag:noindex
X-PUBLISHED-TTL:PT1H
BEGIN:VTIMEZONE
TZID:America/Edmonton
BEGIN:DAYLIGHT
TZOFFSETFROM:-0700
TZOFFSETTO:-0600
TZNAME:MDT
DTSTART:20190310T090000
END:DAYLIGHT
BEGIN:STANDARD
TZOFFSETFROM:-0600
TZOFFSETTO:-0700
TZNAME:MST
DTSTART:20191103T080000
END:STANDARD
BEGIN:DAYLIGHT
TZOFFSETFROM:-0700
TZOFFSETTO:-0600
TZNAME:MDT
DTSTART:20200308T090000
END:DAYLIGHT
BEGIN:STANDARD
TZOFFSETFROM:-0600
TZOFFSETTO:-0700
TZNAME:MST
DTSTART:20201101T080000
END:STANDARD
BEGIN:DAYLIGHT
TZOFFSETFROM:-0700
TZOFFSETTO:-0600
TZNAME:MDT
DTSTART:20210314T090000
END:DAYLIGHT
BEGIN:STANDARD
TZOFFSETFROM:-0600
TZOFFSETTO:-0700
TZNAME:MST
DTSTART:20211107T080000
END:STANDARD
END:VTIMEZONE
BEGIN:VEVENT
DTSTART;TZID=America/Edmonton:20201108T110000
DTEND;TZID=America/Edmonton:20201108T123000
DTSTAMP:20260421T113212
CREATED:20201020T205001Z
LAST-MODIFIED:20210429T233102Z
UID:10000475-1604833200-1604838600@www.calgaryjcc.com
SUMMARY:Book Festival 2020 - Natan Sharansky and Gil Troy
DESCRIPTION:Calgary JCC has joined with the Marcus JCC in Atlanta to offer premium literary programming through this year’s virtual Book Festival. \nNever Alone \nZOOM Webinar Author Talk and Q&A  |  Click for Tickets\n$6 for one virtual ticket or $36 for one virtual ticket and copy of book (shipping included) \nNever Alone is a classic account of courage\, integrity and belonging. In 1977\, Natan Sharansky\, a leading activist for the democratic dissident movement in the Soviet Union and the movement for free Jewish emigration\, was arrested. He spent nine years as a political prisoner\, convicted of treason against the state. In Never Alone\, Natan Sharansky and historian Gil Troy show how Sharansky’s years in prison\, many spent in harsh solitary confinement\, prepared him for his public life\, bringing extraordinary moral clarity and uncompromising honesty to his work as an Israeli politician and the head of the Jewish Agency. Never one who placed expediency ahead of consistent values\, Sharansky was an often-awkward political colleague but always visionary as to where the real threats to freedom lay. Never Alone is suffused with reflections from his time as a political prisoner\, from his seat at the table as history unfolded in Israel and the Middle East\, and his passionate efforts to unite the Jewish people. Written with frankness\, affection\, and humor\, the book offers us profound insights from a man whose fight for individual freedom in the face of overt tyranny would come to define the rest of his life. \nNatan Sharansky is an Israeli politician\, human rights activist and author. He served as Chairman of the Executive of the Jewish Agency from June 2009 to August 2018. \nGil Troy is the award-winning author of The Age of Clinton: America in the 1990s which will be published this October by Thomas Dunne Books of St. Martin׳s Press. A Professor of History at McGill University since 1990\, he is a leading presidential historian\, writing about the history of American presidential elections\, the importance of moderation in American democracy\, and Daniel Patrick Moynihan’s fight as US Ambassador to the UN against the infamous Zionism is Racism resolution.
URL:https://www.calgaryjcc.com/event/jewish-book-festival-natan-sharansky/
LOCATION:AB
CATEGORIES:Arts & Culture
ATTACH;FMTTYPE=image/png:https://www.calgaryjcc.com/wp-content/uploads/2020/09/natan_sharansky_gil_troy.png
END:VEVENT
BEGIN:VEVENT
DTSTART;TZID=America/Edmonton:20201108T120000
DTEND;TZID=America/Edmonton:20201108T140000
DTSTAMP:20260421T113212
CREATED:20201009T201052Z
LAST-MODIFIED:20210429T232934Z
UID:10000472-1604836800-1604844000@www.calgaryjcc.com
SUMMARY:Building the Jewish& Cookbook – Pizza Napoletana with Kat Romenow of The Wandering Chew
DESCRIPTION:Pizza Napoletana\, a sheet-pan pizza topped with tomatoes\, parsley and parmesan\, was one of the most popular offerings at Corona Bakery in Montreal. This bakery was opened in 1932 by Kat’s great-grandfather\, Donato Monaco\, after he immigrated to Canada from Italy. While learning to make this pizza\, Kat decided to replace the lard traditionally included in the recipe with vegetable shortening. This was a way to honour both her Italian and Jewish identities\, and carry a tradition rooted in her upbringing forward into her Jewish (by choice) life. \nJoin us every month as together we build the Jewish& Cookbook – recipes from households blending traditions and cultures! \nThis is part of our Jewish& program\, explicitly gathering multi-faith\, multi-cultural and multi-ethnic Jewish families for Jewish exploration\, education and celebration.
URL:https://www.calgaryjcc.com/event/2640/
LOCATION:AB
CATEGORIES:Arts & Culture
ATTACH;FMTTYPE=image/png:https://www.calgaryjcc.com/wp-content/uploads/2020/10/jc20_web.png
END:VEVENT
BEGIN:VEVENT
DTSTART;TZID=America/Edmonton:20201108T180000
DTEND;TZID=America/Edmonton:20201108T193000
DTSTAMP:20260421T113212
CREATED:20201020T231211Z
LAST-MODIFIED:20210430T125302Z
UID:10000476-1604858400-1604863800@www.calgaryjcc.com
SUMMARY:Book Festival 2020 - Joan Lunden
DESCRIPTION:Calgary JCC has joined with the Marcus JCC in Atlanta to offer premium literary programming through this year’s virtual Book Festival. \nWhy Did I Come Into This Room?\nA Candid Conversation About Aging In Conversation with Holly Firfer\, CNN Journalist \nZOOM Webinar Author Talk and Q&A  |  Click for Tickets\n$11USD for one event ticket or $36USD for one event ticket and copy of book (includes shipping) \nA funny “What to Expect When You’re Expecting” for the aging woman\, acclaimed journalist and Baby Boomer Joan Lunden delves into various phases of aging in her most candid and revealing book yet. Lunden takes the dull and depressing out of aging\, replacing it with wit and humor. Whether you’re in your 40s\, 50s\, 60s\, or more\, this book is full of helpful information. Lunden goes where others fear to tread\, openly sharing her anxieties and breakthroughs and how she’s coping with the realities of aging – wrinkles and age spots\, expanding waistlines\, diminished energy (my get-up-and-go got up and went)\, weak pelvic floors (yes\, we’re talking about leaking)\, hot flashes\, disrupted sleep\, changes in sex drive (oh yeah\, she goes there)\, ageism (it exists and it pisses us off)\, and yes\, the real reasons we find ourselves always searching for those car keys! Why Did I Come into This Room? explores the science of aging and how it impacts the body and brain. \nAn award-winning journalist\, bestselling author\, motivational speaker\, and women’s health and wellness advocate\, Joan Lunden has been a trusted voice in American homes for more than 30 years. For nearly two decades\, Lunden greeted viewers each morning on Good Morning America bringing insight to the day’s top stories. As the longest-running female host ever on early morning television\, Lunden reported from 26 countries\, covered five presidents\, five Olympics\, and kept Americans up-to-date on how to care for their homes\, their families\, and their health.
URL:https://www.calgaryjcc.com/event/jewish-book-festival-2020-joan-lunden/
LOCATION:AB
CATEGORIES:Arts & Culture
ATTACH;FMTTYPE=image/png:https://www.calgaryjcc.com/wp-content/uploads/2020/09/joan_lunden.png
END:VEVENT
END:VCALENDAR