BEGIN:VCALENDAR
VERSION:2.0
PRODID:-//Paperny Family JCC - ECPv6.15.12.2//NONSGML v1.0//EN
CALSCALE:GREGORIAN
METHOD:PUBLISH
X-ORIGINAL-URL:https://www.calgaryjcc.com
X-WR-CALDESC:Events for Paperny Family JCC
REFRESH-INTERVAL;VALUE=DURATION:PT1H
X-Robots-Tag:noindex
X-PUBLISHED-TTL:PT1H
BEGIN:VTIMEZONE
TZID:America/Edmonton
BEGIN:DAYLIGHT
TZOFFSETFROM:-0700
TZOFFSETTO:-0600
TZNAME:MDT
DTSTART:20190310T090000
END:DAYLIGHT
BEGIN:STANDARD
TZOFFSETFROM:-0600
TZOFFSETTO:-0700
TZNAME:MST
DTSTART:20191103T080000
END:STANDARD
BEGIN:DAYLIGHT
TZOFFSETFROM:-0700
TZOFFSETTO:-0600
TZNAME:MDT
DTSTART:20200308T090000
END:DAYLIGHT
BEGIN:STANDARD
TZOFFSETFROM:-0600
TZOFFSETTO:-0700
TZNAME:MST
DTSTART:20201101T080000
END:STANDARD
BEGIN:DAYLIGHT
TZOFFSETFROM:-0700
TZOFFSETTO:-0600
TZNAME:MDT
DTSTART:20210314T090000
END:DAYLIGHT
BEGIN:STANDARD
TZOFFSETFROM:-0600
TZOFFSETTO:-0700
TZNAME:MST
DTSTART:20211107T080000
END:STANDARD
END:VTIMEZONE
BEGIN:VEVENT
DTSTART;TZID=America/Edmonton:20201114T180000
DTEND;TZID=America/Edmonton:20201114T193000
DTSTAMP:20260423T072603
CREATED:20201022T205956Z
LAST-MODIFIED:20210430T125302Z
UID:10000480-1605376800-1605382200@www.calgaryjcc.com
SUMMARY:Book Festival 2020 - Lawrence Wright
DESCRIPTION:Calgary JCC has joined with the Marcus JCC in Atlanta to offer premium literary programming through this year’s virtual Book Festival. \nThe End of October: A Novel \nZOOM Webinar Author Talk and Q&A\n$11USD for one virtual ticket or $35USD for one virtual ticket and copy of book (shipping included) \n“An eerily prescient novel about a devastating virus that begins in Asia before going global… A page-turner that has the earmarks of an instant bestseller.” — New York Post \nIn this riveting medical thriller–from the Pulitzer Prize winner and best-selling author\, Lawrence Wright –Dr. Henry Parsons\, an unlikely but appealing hero\, races to find the origins and cure of a mysterious new killer virus as it brings the world to its knees. \nAt an internment camp in Indonesia\, forty-seven people are pronounced dead with acute hemorrhagic fever. When Henry Parsons–microbiologist\, epidemiologist–travels there on behalf of the World Health Organization to investigate\, what he finds will soon have staggering repercussions across the globe: an infected man is on his way to join the millions of worshippers in the annual Hajj to Mecca. Now\, Henry joins forces with a Saudi prince and doctor in an attempt to quarantine the entire host of pilgrims in the holy city… A Russian émigré\, a woman who has risen to deputy director of U.S. Homeland Security\, scrambles to mount a response to what may be an act of biowarfare… Already-fraying global relations begin to snap\, one by one\, in the face of a pandemic… Henry’s wife\, Jill\, and their children face diminishing odds of survival in Atlanta… And the disease slashes across the United States\, dismantling institutions–scientific\, religious\, governmental–and decimating the population. As packed with suspense as it is with the fascinating history of viral diseases\, Lawrence Wright has given us a full-tilt\, electrifying\, one-of-a-kind thriller. \nLawrence Wright is a staff writer for The New Yorker\, a playwright\, a screenwriter\, and the author of ten books of nonfiction\, including The Looming Tower\, Going Clear\, and God Save Texas\, and one previous novel\, God’s Favorite. His books have received many honors\, including a Pulitzer Prize for The Looming Tower. He and his wife are longtime residents of Austin\, Texas.
URL:https://www.calgaryjcc.com/event/book-festival-2020-lawrence-wright/
LOCATION:AB
CATEGORIES:Arts & Culture
ATTACH;FMTTYPE=image/png:https://www.calgaryjcc.com/wp-content/uploads/2020/09/lawrence_wright.png
END:VEVENT
END:VCALENDAR