BEGIN:VCALENDAR
VERSION:2.0
PRODID:-//Paperny Family JCC - ECPv6.15.12.2//NONSGML v1.0//EN
CALSCALE:GREGORIAN
METHOD:PUBLISH
X-WR-CALNAME:Paperny Family JCC
X-ORIGINAL-URL:https://www.calgaryjcc.com
X-WR-CALDESC:Events for Paperny Family JCC
REFRESH-INTERVAL;VALUE=DURATION:PT1H
X-Robots-Tag:noindex
X-PUBLISHED-TTL:PT1H
BEGIN:VTIMEZONE
TZID:America/Edmonton
BEGIN:DAYLIGHT
TZOFFSETFROM:-0700
TZOFFSETTO:-0600
TZNAME:MDT
DTSTART:20220313T090000
END:DAYLIGHT
BEGIN:STANDARD
TZOFFSETFROM:-0600
TZOFFSETTO:-0700
TZNAME:MST
DTSTART:20221106T080000
END:STANDARD
BEGIN:DAYLIGHT
TZOFFSETFROM:-0700
TZOFFSETTO:-0600
TZNAME:MDT
DTSTART:20230312T090000
END:DAYLIGHT
BEGIN:STANDARD
TZOFFSETFROM:-0600
TZOFFSETTO:-0700
TZNAME:MST
DTSTART:20231105T080000
END:STANDARD
BEGIN:DAYLIGHT
TZOFFSETFROM:-0700
TZOFFSETTO:-0600
TZNAME:MDT
DTSTART:20240310T090000
END:DAYLIGHT
BEGIN:STANDARD
TZOFFSETFROM:-0600
TZOFFSETTO:-0700
TZNAME:MST
DTSTART:20241103T080000
END:STANDARD
END:VTIMEZONE
BEGIN:VEVENT
DTSTART;TZID=America/Edmonton:20230504T101500
DTEND;TZID=America/Edmonton:20230504T134500
DTSTAMP:20260420T205839
CREATED:20230428T160055Z
LAST-MODIFIED:20230428T160055Z
UID:10000768-1683195300-1683207900@www.calgaryjcc.com
SUMMARY:Casino Day - May 2023
DESCRIPTION:Join us for a fun time at the Deerfoot Inn and Casino! \nLeaving at 10:15am sharp. Returning at 1:45pm. \n$12 per person. Includes transportation on the JCC bus and lunch at the casino – space is limited. \nRegister at the Customer Service Desk or call 403-253-8600\, ext.0 \nFor information email Nessie Hollander or call 403-690-2449. \n 
URL:https://www.calgaryjcc.com/event/casino-day-may-2023/
LOCATION:Deerfoot Inn and Casino
CATEGORIES:Golden Age
ATTACH;FMTTYPE=image/png:https://www.calgaryjcc.com/wp-content/uploads/2023/04/cd23_web_may.png
END:VEVENT
BEGIN:VEVENT
DTSTART;TZID=America/Edmonton:20230509T114500
DTEND;TZID=America/Edmonton:20230509T134500
DTSTAMP:20260420T205839
CREATED:20230403T221523Z
LAST-MODIFIED:20230403T225219Z
UID:10000764-1683632700-1683639900@www.calgaryjcc.com
SUMMARY:Golden Age Luncheon - May 2023
DESCRIPTION:A lovely and fun way to spend a Tuesday afternoon with friends in a warm and friendly atmosphere at the JCC. Enjoy a home-cooked meal and wonderful entertainment by Laura Shuler who will present Better with Schmultz: More Songs and Stories of Romance. \n$7 for members and $10 for the public. Register at the Customer Service Desk at 403-253-8600\, ext.0 by Wednesday\, May 3. \nOrganized in partnership with Jewish Historical Society of Southern Alberta and generously Sponsored by Lenny and Faigel Shapiro and Family. \nPowered by Calgary Jewish Federation. \nFor more information email Nessie Hollander or call 403-690-2449. \nView poster
URL:https://www.calgaryjcc.com/event/golden-age-luncheon-may-2023/
LOCATION:Calgary JCC\, 1607 90 Avenue SW\, Calgary\, AB\, T2V 4V7\, Canada
CATEGORIES:Golden Age
ATTACH;FMTTYPE=image/png:https://www.calgaryjcc.com/wp-content/uploads/2023/04/sl23_web_may.png
END:VEVENT
BEGIN:VEVENT
DTSTART;TZID=America/Edmonton:20230517T130000
DTEND;TZID=America/Edmonton:20230517T150000
DTSTAMP:20260420T205839
CREATED:20230329T210806Z
LAST-MODIFIED:20230329T210806Z
UID:10000761-1684328400-1684335600@www.calgaryjcc.com
SUMMARY:Bingo Afternoon - May
DESCRIPTION:Get your daubers out and join us for a fun-filled afternoon of Bingo! \nRegister at Customer Service Desk or call 403-253-8600\, ext.0. \n$5 members | $7 public \nCoffee and cake will be served. \nView poster
URL:https://www.calgaryjcc.com/event/bingo-afternoon-may/
LOCATION:Calgary JCC\, 1607 90 Avenue SW\, Calgary\, AB\, T2V 4V7\, Canada
CATEGORIES:Golden Age
ATTACH;FMTTYPE=image/png:https://www.calgaryjcc.com/wp-content/uploads/2023/03/ba23_web_may.png
END:VEVENT
BEGIN:VEVENT
DTSTART;TZID=America/Edmonton:20230529T133000
DTEND;TZID=America/Edmonton:20230529T153000
DTSTAMP:20260420T205839
CREATED:20230518T203500Z
LAST-MODIFIED:20230518T203553Z
UID:10000793-1685367000-1685374200@www.calgaryjcc.com
SUMMARY:Crafty Corner
DESCRIPTION:Bring your crafts and share your hobbies and passions with others at our Crafty Corner. You can bring your knitting\, crocheting\, card making\, scrapbooking\, etc. Enjoy time with others as you work on your favourite crafts! \nFor more information email Nessie Hollander or call 403-537-8599. \nView poster
URL:https://www.calgaryjcc.com/event/crafty-corner-2/2023-05-29/
LOCATION:Calgary JCC\, 1607 90 Avenue SW\, Calgary\, AB\, T2V 4V7\, Canada
CATEGORIES:Golden Age
ATTACH;FMTTYPE=image/png:https://www.calgaryjcc.com/wp-content/uploads/2023/05/cc23_web.png
END:VEVENT
BEGIN:VEVENT
DTSTART;TZID=America/Edmonton:20230531T183000
DTEND;TZID=America/Edmonton:20230531T203000
DTSTAMP:20260420T205839
CREATED:20230511T195835Z
LAST-MODIFIED:20230511T195941Z
UID:10000791-1685557800-1685565000@www.calgaryjcc.com
SUMMARY:Uncovering my Metis Roots - A Jewish Woman's Journey
DESCRIPTION:Lisa Wilder was adopted and raised in a Jewish family in Winnipeg. Unbeknownst to her adoptive parents\, she had been placed into the adoption system during the “Sixties Scoop”. As an adult\, she connected with her biological family and discovered the truth about her past. Today\, \nLisa continues to carry on the traditions of her Jewish heritage\, while proudly discovering and integrating those of her Indigenous roots. \nThis is a FREE event but donations at door will be accepted for the Golden Age department. \nLight refreshments will be served. \nFor more information and to RSVP go to the JCC Customer Service Desk or call 403-253-8600\, ext.0. \nView poster
URL:https://www.calgaryjcc.com/event/uncovering-my-metis-roots-a-jewish-womans-journey/
LOCATION:Calgary JCC\, 1607 90 Avenue SW\, Calgary\, AB\, T2V 4V7\, Canada
CATEGORIES:Golden Age
ATTACH;FMTTYPE=image/png:https://www.calgaryjcc.com/wp-content/uploads/2023/05/lw23_web.png
END:VEVENT
END:VCALENDAR