BEGIN:VCALENDAR
VERSION:2.0
PRODID:-//Paperny Family JCC - ECPv6.15.12.2//NONSGML v1.0//EN
CALSCALE:GREGORIAN
METHOD:PUBLISH
X-ORIGINAL-URL:https://www.calgaryjcc.com
X-WR-CALDESC:Events for Paperny Family JCC
REFRESH-INTERVAL;VALUE=DURATION:PT1H
X-Robots-Tag:noindex
X-PUBLISHED-TTL:PT1H
BEGIN:VTIMEZONE
TZID:America/Edmonton
BEGIN:DAYLIGHT
TZOFFSETFROM:-0700
TZOFFSETTO:-0600
TZNAME:MDT
DTSTART:20230312T090000
END:DAYLIGHT
BEGIN:STANDARD
TZOFFSETFROM:-0600
TZOFFSETTO:-0700
TZNAME:MST
DTSTART:20231105T080000
END:STANDARD
BEGIN:DAYLIGHT
TZOFFSETFROM:-0700
TZOFFSETTO:-0600
TZNAME:MDT
DTSTART:20240310T090000
END:DAYLIGHT
BEGIN:STANDARD
TZOFFSETFROM:-0600
TZOFFSETTO:-0700
TZNAME:MST
DTSTART:20241103T080000
END:STANDARD
BEGIN:DAYLIGHT
TZOFFSETFROM:-0700
TZOFFSETTO:-0600
TZNAME:MDT
DTSTART:20250309T090000
END:DAYLIGHT
BEGIN:STANDARD
TZOFFSETFROM:-0600
TZOFFSETTO:-0700
TZNAME:MST
DTSTART:20251102T080000
END:STANDARD
END:VTIMEZONE
BEGIN:VEVENT
DTSTART;TZID=America/Edmonton:20240307T101500
DTEND;TZID=America/Edmonton:20240307T140000
DTSTAMP:20260423T124626
CREATED:20231229T180948Z
LAST-MODIFIED:20231229T180948Z
UID:10001306-1709806500-1709820000@www.calgaryjcc.com
SUMMARY:Casino Day - March 2024
DESCRIPTION:Join us for a fun time at the Deerfoot Inn and Casino! \nLeaving at 10:15am sharp. Returning at 2:00pm. \n$12 per person. Includes transportation on the JCC bus and lunch at the casino – space is limited. \nRegister at the Customer Service Desk or call 403-253-8600\, ext.0 \n 
URL:https://www.calgaryjcc.com/event/casino-day-march-2024/
LOCATION:Deerfoot Inn and Casino
CATEGORIES:Golden Age
ATTACH;FMTTYPE=image/png:https://www.calgaryjcc.com/wp-content/uploads/2023/12/cd24_web.png
END:VEVENT
BEGIN:VEVENT
DTSTART;TZID=America/Edmonton:20240318T100000
DTEND;TZID=America/Edmonton:20240318T120000
DTSTAMP:20260423T124626
CREATED:20240117T222918Z
LAST-MODIFIED:20240117T222918Z
UID:10001332-1710756000-1710763200@www.calgaryjcc.com
SUMMARY:Hearing Clinic March 2024
DESCRIPTION:In partnership with Connect Hearing\, come to the JCC for a hearing assessment. \nDrop-ins welcome\, no appointment needed. \nFor more information\, email Nessie Hollander.
URL:https://www.calgaryjcc.com/event/hearing-clinic-march-2024/
LOCATION:1607 90 Avenue SW\, Calgary\, Alberta\, T2V 4V7\, Canada
CATEGORIES:Golden Age
END:VEVENT
BEGIN:VEVENT
DTSTART;TZID=America/Edmonton:20240324T140000
DTEND;TZID=America/Edmonton:20240324T160000
DTSTAMP:20260423T124626
CREATED:20230920T163130Z
LAST-MODIFIED:20240221T025657Z
UID:10000889-1711288800-1711296000@www.calgaryjcc.com
SUMMARY:Roaring 20s High Tea
DESCRIPTION:Please join us for a fun-filled afternoon tea\, dressed up (or not) in your 20s style and enjoy eating and socializing. \nMembers: $10\nPublic: $15\nCode: 9759 \nTo register\, contact the Customer Service Desk at 403-253-8600 x0. \nView poster \n 
URL:https://www.calgaryjcc.com/event/roaring-20s-high-tea/
LOCATION:Calgary JCC\, 1607 90 Avenue SW\, Calgary\, AB\, T2V 4V7\, Canada
CATEGORIES:Golden Age
ATTACH;FMTTYPE=image/png:https://www.calgaryjcc.com/wp-content/uploads/2023/09/rt24_web.png
END:VEVENT
END:VCALENDAR