BEGIN:VCALENDAR
VERSION:2.0
PRODID:-//Paperny Family JCC - ECPv6.15.12.2//NONSGML v1.0//EN
CALSCALE:GREGORIAN
METHOD:PUBLISH
X-ORIGINAL-URL:https://www.calgaryjcc.com
X-WR-CALDESC:Events for Paperny Family JCC
REFRESH-INTERVAL;VALUE=DURATION:PT1H
X-Robots-Tag:noindex
X-PUBLISHED-TTL:PT1H
BEGIN:VTIMEZONE
TZID:America/Edmonton
BEGIN:DAYLIGHT
TZOFFSETFROM:-0700
TZOFFSETTO:-0600
TZNAME:MDT
DTSTART:20240310T090000
END:DAYLIGHT
BEGIN:STANDARD
TZOFFSETFROM:-0600
TZOFFSETTO:-0700
TZNAME:MST
DTSTART:20241103T080000
END:STANDARD
BEGIN:DAYLIGHT
TZOFFSETFROM:-0700
TZOFFSETTO:-0600
TZNAME:MDT
DTSTART:20250309T090000
END:DAYLIGHT
BEGIN:STANDARD
TZOFFSETFROM:-0600
TZOFFSETTO:-0700
TZNAME:MST
DTSTART:20251102T080000
END:STANDARD
BEGIN:DAYLIGHT
TZOFFSETFROM:-0700
TZOFFSETTO:-0600
TZNAME:MDT
DTSTART:20260308T090000
END:DAYLIGHT
BEGIN:STANDARD
TZOFFSETFROM:-0600
TZOFFSETTO:-0700
TZNAME:MST
DTSTART:20261101T080000
END:STANDARD
END:VTIMEZONE
BEGIN:VEVENT
DTSTART;TZID=America/Edmonton:20250901T080000
DTEND;TZID=America/Edmonton:20250901T160000
DTSTAMP:20260419T064040
CREATED:20200310T205949Z
LAST-MODIFIED:20250822T181827Z
UID:10000444-1756713600-1756742400@www.calgaryjcc.com
SUMMARY:Building Hours - Labour Day
DESCRIPTION:The Paperny Family JCC will be opened from 8:00am-4:00pm on Labour Day.
URL:https://www.calgaryjcc.com/event/building-hours-labour-day/
LOCATION:1607 90 Avenue SW\, Calgary\, Alberta\, T2V 4V7\, Canada
CATEGORIES:Building Hours,Special Event
ATTACH;FMTTYPE=image/jpeg:https://www.calgaryjcc.com/wp-content/uploads/2020/02/jcc.jpg
END:VEVENT
BEGIN:VEVENT
DTSTART;TZID=America/Edmonton:20250905T053000
DTEND;TZID=America/Edmonton:20250905T160000
DTSTAMP:20260419T064040
CREATED:20240422T204100Z
LAST-MODIFIED:20250822T162806Z
UID:10001350-1757050200-1757088000@www.calgaryjcc.com
SUMMARY:Building Hours - Staff Training
DESCRIPTION:The Paperny Family JCC will close at 4:00pm for staff training.
URL:https://www.calgaryjcc.com/event/building-hours-staff-training/
LOCATION:1607 90 Avenue SW\, Calgary\, Alberta\, T2V 4V7\, Canada
CATEGORIES:Building Hours,Special Event
ATTACH;FMTTYPE=image/jpeg:https://www.calgaryjcc.com/wp-content/uploads/2020/02/jcc.jpg
END:VEVENT
BEGIN:VEVENT
DTSTART;TZID=America/Edmonton:20250907T110000
DTEND;TZID=America/Edmonton:20250907T140000
DTSTAMP:20260419T064040
CREATED:20250822T185516Z
LAST-MODIFIED:20250903T203920Z
UID:10002756-1757242800-1757253600@www.calgaryjcc.com
SUMMARY:Walk with Israel
DESCRIPTION:The 2025 UJA Campaign kicks off with Walk with Israel! Join Calgary Jewish Federation\, Paperny Family JCC\, Jewish National Fund\, and Calgary Jews Stand United for this incredible event! Register online now! (registration is required to receive a lunch ticket – one per person)\, and invite your friends and allies. Thank you to our title sponsor\, the Balaban Family.
URL:https://www.calgaryjcc.com/event/walk-with-israel/
LOCATION:Calgary JCC\, 1607 90 Avenue SW\, Calgary\, AB\, T2V 4V7\, Canada
CATEGORIES:Special Event
ATTACH;FMTTYPE=image/png:https://www.calgaryjcc.com/wp-content/uploads/2025/08/wi25_web.png
END:VEVENT
BEGIN:VEVENT
DTSTART;TZID=America/Edmonton:20250922T053000
DTEND;TZID=America/Edmonton:20250922T160000
DTSTAMP:20260419T064040
CREATED:20200310T210128Z
LAST-MODIFIED:20250822T175421Z
UID:10000445-1758519000-1758556800@www.calgaryjcc.com
SUMMARY:Building Hours - Erev Rosh HaShanah
DESCRIPTION:The Paperny Family JCC will be opened from 5:30am-4:00pm on Erev Rosh HaShanah.
URL:https://www.calgaryjcc.com/event/building-hours-erev-rosh-hashanah/
LOCATION:1607 90 Avenue SW\, Calgary\, Alberta\, T2V 4V7\, Canada
CATEGORIES:Building Hours,Special Event
ATTACH;FMTTYPE=image/jpeg:https://www.calgaryjcc.com/wp-content/uploads/2020/02/jcc.jpg
END:VEVENT
BEGIN:VEVENT
DTSTART;VALUE=DATE:20250923
DTEND;VALUE=DATE:20250924
DTSTAMP:20260419T064040
CREATED:20200310T210457Z
LAST-MODIFIED:20250822T175640Z
UID:10000447-1758585600-1758671999@www.calgaryjcc.com
SUMMARY:Building Closed on Rosh HaShanah
DESCRIPTION:The Paperny Family JCC will be closed on Rosh HaShanah.
URL:https://www.calgaryjcc.com/event/building-closed-on-rosh-hashanah-2/
LOCATION:1607 90 Avenue SW\, Calgary\, Alberta\, T2V 4V7\, Canada
CATEGORIES:Building Hours,Special Event
ATTACH;FMTTYPE=image/jpeg:https://www.calgaryjcc.com/wp-content/uploads/2020/02/jcc.jpg
END:VEVENT
BEGIN:VEVENT
DTSTART;VALUE=DATE:20250924
DTEND;VALUE=DATE:20250925
DTSTAMP:20260419T064040
CREATED:20200310T210406Z
LAST-MODIFIED:20250822T175732Z
UID:10000446-1758672000-1758758399@www.calgaryjcc.com
SUMMARY:Building Closed on Rosh HaShanah
DESCRIPTION:The Paperny Family JCC will be closed on Rosh HaShanah.
URL:https://www.calgaryjcc.com/event/building-closed-on-rosh-hashanah/
LOCATION:1607 90 Avenue SW\, Calgary\, Alberta\, T2V 4V7\, Canada
CATEGORIES:Building Hours,Special Event
ATTACH;FMTTYPE=image/jpeg:https://www.calgaryjcc.com/wp-content/uploads/2020/02/jcc.jpg
END:VEVENT
END:VCALENDAR