BEGIN:VCALENDAR
VERSION:2.0
PRODID:-//Paperny Family JCC - ECPv6.15.12.2//NONSGML v1.0//EN
CALSCALE:GREGORIAN
METHOD:PUBLISH
X-ORIGINAL-URL:https://www.calgaryjcc.com
X-WR-CALDESC:Events for Paperny Family JCC
REFRESH-INTERVAL;VALUE=DURATION:PT1H
X-Robots-Tag:noindex
X-PUBLISHED-TTL:PT1H
BEGIN:VTIMEZONE
TZID:America/Edmonton
BEGIN:DAYLIGHT
TZOFFSETFROM:-0700
TZOFFSETTO:-0600
TZNAME:MDT
DTSTART:20200308T090000
END:DAYLIGHT
BEGIN:STANDARD
TZOFFSETFROM:-0600
TZOFFSETTO:-0700
TZNAME:MST
DTSTART:20201101T080000
END:STANDARD
BEGIN:DAYLIGHT
TZOFFSETFROM:-0700
TZOFFSETTO:-0600
TZNAME:MDT
DTSTART:20210314T090000
END:DAYLIGHT
BEGIN:STANDARD
TZOFFSETFROM:-0600
TZOFFSETTO:-0700
TZNAME:MST
DTSTART:20211107T080000
END:STANDARD
BEGIN:DAYLIGHT
TZOFFSETFROM:-0700
TZOFFSETTO:-0600
TZNAME:MDT
DTSTART:20220313T090000
END:DAYLIGHT
BEGIN:STANDARD
TZOFFSETFROM:-0600
TZOFFSETTO:-0700
TZNAME:MST
DTSTART:20221106T080000
END:STANDARD
END:VTIMEZONE
BEGIN:VEVENT
DTSTART;TZID=America/Edmonton:20211012T120000
DTEND;TZID=America/Edmonton:20211012T130000
DTSTAMP:20260421T111018
CREATED:20210618T200008Z
LAST-MODIFIED:20211012T215330Z
UID:10000585-1634040000-1634043600@www.calgaryjcc.com
SUMMARY:Golden Age Luncheon - October 2021
DESCRIPTION:Enjoy an hour of food\, fun\, and friendship at our virtual lunch for our Golden Age group! \nWe will deliver a boxed lunch to your home or you can pick-up at the JCC between 11:00 and 11:30am. Log on to Zoom at noon and take in musical entertainment by Elliott Steinberg with Derek Stoll on keyboard. \nRegister at the Customer Service Desk at 403-253-8600\, ext.0 by Wednesday\, October 6. \nGenerously sponsored by Lenny and Faigel Shapiro and Family. \nFor more information email Nessie Hollander or call 403-690-2449. \nView poster
URL:https://www.calgaryjcc.com/event/golden-age-luncheon-october-2021/
LOCATION:Calgary JCC\, 1607 90 Avenue SW\, Calgary\, AB\, T2V 4V7\, Canada
CATEGORIES:Golden Age
ATTACH;FMTTYPE=image/png:https://www.calgaryjcc.com/wp-content/uploads/2021/06/sl21_fbevent_oct.png
END:VEVENT
BEGIN:VEVENT
DTSTART;VALUE=DATE:20211017
DTEND;VALUE=DATE:20211111
DTSTAMP:20260421T111018
CREATED:20211018T204513Z
LAST-MODIFIED:20211018T210428Z
UID:10000587-1634428800-1636588799@www.calgaryjcc.com
SUMMARY:Ability Arts Community Mural Exhibit
DESCRIPTION:All are welcome to view our Ability Arts Community Mural Exhibit at the Paperny Family JCC. \nExhibit: October 17 to November 10\, 2021.  \nOpen House: November 10\, from 2:00 to 6:00pm.  \nJoin us to celebrate resilience\, hope\, and community! \n 
URL:https://www.calgaryjcc.com/event/ability-arts-community-mural-exhibit/
LOCATION:Calgary JCC\, 1607 90 Avenue SW\, Calgary\, AB\, T2V 4V7\, Canada
CATEGORIES:Arts & Culture
ATTACH;FMTTYPE=image/png:https://www.calgaryjcc.com/wp-content/uploads/2021/10/cm21_web.png
END:VEVENT
BEGIN:VEVENT
DTSTART;TZID=America/Edmonton:20211020T110000
DTEND;TZID=America/Edmonton:20211020T115000
DTSTAMP:20260421T111018
CREATED:20211006T204733Z
LAST-MODIFIED:20211012T215040Z
UID:10000529-1634727600-1634730600@www.calgaryjcc.com
SUMMARY:Line Dancing Pop Up with Paula Bickford
DESCRIPTION:Line Dancing Pop Up with Paula Bickford \nWednesday\, October 20\n11:00 – 11:50am\nIn person at the JCC or use your 11:00am October Zoom link to attend virtually\nMembers: Free | Public: $10 \nPaula Bickford is an experienced and passionate dancer and instructor\, leading her to teach Step Dancing to adults in 2000 – a dream come true! – offering classes for beginners through to advanced. Certified as a instructor in Zumba® Gold and Zumba® Toning\, Paula’s love for dance and performing has propelled her to pursue studying Ukrainian dance\, belly dance\, burlesque and country line dance. Paula currently teaches at many facilities around Calgary including seniors residences\, community centres\, and local schools. \nFor more information email Cathy Bjorndalen or call 403-537-8595.
URL:https://www.calgaryjcc.com/event/line-dancing-pop-up/
LOCATION:Calgary JCC\, 1607 90 Avenue SW\, Calgary\, AB\, T2V 4V7\, Canada
CATEGORIES:Fitness & Health
ATTACH;FMTTYPE=image/png:https://www.calgaryjcc.com/wp-content/uploads/2021/10/ld21_web.png
END:VEVENT
BEGIN:VEVENT
DTSTART;TZID=America/Edmonton:20211027T110000
DTEND;TZID=America/Edmonton:20211027T115000
DTSTAMP:20260421T111018
CREATED:20211006T210400Z
LAST-MODIFIED:20211012T215021Z
UID:10000531-1635332400-1635335400@www.calgaryjcc.com
SUMMARY:Qi Gong with Erica Welsh
DESCRIPTION:Qi Gong with Erica Welsh \nWednesday\, October 27\n11:00 – 11:50am\nIn person at the JCC or use your 11:00am October Zoom link to attend virtually\nMembers: Free | Public: $10 \nCOME PRACTICE QI GONG MEDITATION \nClass begins with gentle warm-up exercises that include light bouncing\, and tapping and cupping energy points in the body to stimulate energy flow and prepare the body for the session. The warm-up is followed by approximately 30 minutes of mindful movement practice\, which can be done in a standing or seated position. Class concludes with a seated\, guided meditation that is typically 10 to 15 minutes in duration. \nFor more information email Cathy Bjorndalen or call 403-537-8595.
URL:https://www.calgaryjcc.com/event/qi-gong-with-erica-welsh/
LOCATION:Calgary JCC\, 1607 90 Avenue SW\, Calgary\, AB\, T2V 4V7\, Canada
CATEGORIES:Fitness & Health
ATTACH;FMTTYPE=image/png:https://www.calgaryjcc.com/wp-content/uploads/2021/10/qg21_web.png
END:VEVENT
BEGIN:VEVENT
DTSTART;TZID=America/Edmonton:20211031T130000
DTEND;TZID=America/Edmonton:20211031T150000
DTSTAMP:20260421T111018
CREATED:20211025T163335Z
LAST-MODIFIED:20211025T171738Z
UID:10000589-1635685200-1635692400@www.calgaryjcc.com
SUMMARY:Teen Connect - Flying Squirrel Trampoline Park
DESCRIPTION:The Paperny Family JCC and BBYO Teen Connect invite all teens grade 7 and 8 for an afternoon of fun at Flying Squirrel Trampoline Park (5342 72 Avenue SE). \nSunday\, October 31\n1:00 – 3:00pm\n$20 per person \nJoin us and invite your friends! \nFor info\, email Barry or call 403-444-3155. \nView event poster. \nThe Paperny Family JCC welcomes and supports children and adults with disabilities as well as their families. Individuals needing special accommodations to participate in our programs\, activities or services should email Rhona Shore\, Executive Director or call 403-444-3168.
URL:https://www.calgaryjcc.com/event/teen-connect-flying-squirrel-trampoline-park/
LOCATION:Flying Squirrel Trampoline Park\, 5342 72 Avenue SE\, Calgary\, Alberta\, Canada
CATEGORIES:Teen
ATTACH;FMTTYPE=image/png:https://www.calgaryjcc.com/wp-content/uploads/2021/10/tc21_web_oct.png
END:VEVENT
END:VCALENDAR