BEGIN:VCALENDAR
VERSION:2.0
PRODID:-//Paperny Family JCC - ECPv6.15.12.2//NONSGML v1.0//EN
CALSCALE:GREGORIAN
METHOD:PUBLISH
X-ORIGINAL-URL:https://www.calgaryjcc.com
X-WR-CALDESC:Events for Paperny Family JCC
REFRESH-INTERVAL;VALUE=DURATION:PT1H
X-Robots-Tag:noindex
X-PUBLISHED-TTL:PT1H
BEGIN:VTIMEZONE
TZID:America/Edmonton
BEGIN:DAYLIGHT
TZOFFSETFROM:-0700
TZOFFSETTO:-0600
TZNAME:MDT
DTSTART:20210314T090000
END:DAYLIGHT
BEGIN:STANDARD
TZOFFSETFROM:-0600
TZOFFSETTO:-0700
TZNAME:MST
DTSTART:20211107T080000
END:STANDARD
BEGIN:DAYLIGHT
TZOFFSETFROM:-0700
TZOFFSETTO:-0600
TZNAME:MDT
DTSTART:20220313T090000
END:DAYLIGHT
BEGIN:STANDARD
TZOFFSETFROM:-0600
TZOFFSETTO:-0700
TZNAME:MST
DTSTART:20221106T080000
END:STANDARD
BEGIN:DAYLIGHT
TZOFFSETFROM:-0700
TZOFFSETTO:-0600
TZNAME:MDT
DTSTART:20230312T090000
END:DAYLIGHT
BEGIN:STANDARD
TZOFFSETFROM:-0600
TZOFFSETTO:-0700
TZNAME:MST
DTSTART:20231105T080000
END:STANDARD
END:VTIMEZONE
BEGIN:VEVENT
DTSTART;TZID=America/Edmonton:20220327T130000
DTEND;TZID=America/Edmonton:20220327T150000
DTSTAMP:20260424T211022
CREATED:20220311T190318Z
LAST-MODIFIED:20220311T202307Z
UID:10000621-1648386000-1648393200@www.calgaryjcc.com
SUMMARY:Teen Connect - Axe Throwing
DESCRIPTION:Paperny Family JCC and BBYO Teen Connect invite all teens grade 7 and 8 for an afternoon of fun at Axe Games Calgary. \nJoin us and invite your friends. \nSunday March 27 | 1-3pm\nAxe Games: #23\, 2015 32 Avenue NE\n$20 per teen\, closed toe shoes required. \nFor info email Barry or  call 403-444-3155.
URL:https://www.calgaryjcc.com/event/teen-connect-axe-throwing/
LOCATION:Axes Games\, #23\, 2015 32 Avenue NE\, Calgary\, Alberta\, Canada
CATEGORIES:Teen
ATTACH;FMTTYPE=image/png:https://www.calgaryjcc.com/wp-content/uploads/2022/03/tc22_ig_mar_web.png
END:VEVENT
BEGIN:VEVENT
DTSTART;TZID=America/Edmonton:20220331T153000
DTEND;TZID=America/Edmonton:20220331T163000
DTSTAMP:20260424T211022
CREATED:20220316T154336Z
LAST-MODIFIED:20220316T155425Z
UID:10000645-1648740600-1648744200@www.calgaryjcc.com
SUMMARY:Challah Braiding and Music
DESCRIPTION:Join us virtually or in-person at the JCC for a fun hour of Challah Braiding and Music with Karina Szulc and the Kesher group. \nThursday\, March 31 from 3:30 to 4:30pm. \nIf you’re joining through Zoom\, you can pick-up your challah package at 11:00am on March 31. Please \nRSVP by email to Nessie Hollander for this free event in collaboration with Inclusion powered by Calgary Jewish Federation. \nView poster
URL:https://www.calgaryjcc.com/event/challah-braiding-and-music/
LOCATION:AB
CATEGORIES:Golden Age
ATTACH;FMTTYPE=image/png:https://www.calgaryjcc.com/wp-content/uploads/2022/03/cm22_web.png
END:VEVENT
END:VCALENDAR