BEGIN:VCALENDAR
VERSION:2.0
PRODID:-//Paperny Family JCC - ECPv6.15.12.2//NONSGML v1.0//EN
CALSCALE:GREGORIAN
METHOD:PUBLISH
X-ORIGINAL-URL:https://www.calgaryjcc.com
X-WR-CALDESC:Events for Paperny Family JCC
REFRESH-INTERVAL;VALUE=DURATION:PT1H
X-Robots-Tag:noindex
X-PUBLISHED-TTL:PT1H
BEGIN:VTIMEZONE
TZID:America/Edmonton
BEGIN:DAYLIGHT
TZOFFSETFROM:-0700
TZOFFSETTO:-0600
TZNAME:MDT
DTSTART:20220313T090000
END:DAYLIGHT
BEGIN:STANDARD
TZOFFSETFROM:-0600
TZOFFSETTO:-0700
TZNAME:MST
DTSTART:20221106T080000
END:STANDARD
BEGIN:DAYLIGHT
TZOFFSETFROM:-0700
TZOFFSETTO:-0600
TZNAME:MDT
DTSTART:20230312T090000
END:DAYLIGHT
BEGIN:STANDARD
TZOFFSETFROM:-0600
TZOFFSETTO:-0700
TZNAME:MST
DTSTART:20231105T080000
END:STANDARD
BEGIN:DAYLIGHT
TZOFFSETFROM:-0700
TZOFFSETTO:-0600
TZNAME:MDT
DTSTART:20240310T090000
END:DAYLIGHT
BEGIN:STANDARD
TZOFFSETFROM:-0600
TZOFFSETTO:-0700
TZNAME:MST
DTSTART:20241103T080000
END:STANDARD
END:VTIMEZONE
BEGIN:VEVENT
DTSTART;TZID=America/Edmonton:20231023T080000
DTEND;TZID=America/Edmonton:20231023T120000
DTSTAMP:20260421T130009
CREATED:20231004T155340Z
LAST-MODIFIED:20231004T155340Z
UID:10000900-1698048000-1698062400@www.calgaryjcc.com
SUMMARY:Flu Clinic
DESCRIPTION:Flu clinic with Pharmasave Pharmacist Matthew Wasserman. \nBring your Alberta Health Care card.
URL:https://www.calgaryjcc.com/event/flu-clinic-2/
LOCATION:Calgary JCC\, 1607 90 Avenue SW\, Calgary\, AB\, T2V 4V7\, Canada
CATEGORIES:Golden Age
ATTACH;FMTTYPE=image/png:https://www.calgaryjcc.com/wp-content/uploads/2023/10/fc23_web.png
END:VEVENT
BEGIN:VEVENT
DTSTART;TZID=America/Edmonton:20231024T183000
DTEND;TZID=America/Edmonton:20231024T203000
DTSTAMP:20260421T130009
CREATED:20231013T214823Z
LAST-MODIFIED:20231013T214823Z
UID:10000912-1698172200-1698179400@www.calgaryjcc.com
SUMMARY:Striving & Thriving
DESCRIPTION:Join guest presenters Annie and gordon VanderLeek to learn about guardianship\, PDD\, housing\, and new changes to AISH and trust funds. \nRefreshments and childcare provided. \nPlease email Karina Szulc or call 403-444-3158 before October 22 to register. \nThis event is presented by Inclusion Powered by Calgary Jewish Federation in partnership with Paperny Family JCC and VanderLeek Law. \nView poster
URL:https://www.calgaryjcc.com/event/striving-thriving/
LOCATION:Calgary JCC\, 1607 90 Avenue SW\, Calgary\, AB\, T2V 4V7\, Canada
CATEGORIES:Arts & Culture
ATTACH;FMTTYPE=image/png:https://www.calgaryjcc.com/wp-content/uploads/2023/10/st23_website.png
END:VEVENT
BEGIN:VEVENT
DTSTART;TZID=America/Edmonton:20231025T190000
DTEND;TZID=America/Edmonton:20231025T203000
DTSTAMP:20260421T130009
CREATED:20231004T155614Z
LAST-MODIFIED:20231004T221817Z
UID:10000901-1698260400-1698265800@www.calgaryjcc.com
SUMMARY:Death Education Workshop
DESCRIPTION:Please join us for a Death Education Workshop with Death Doula\, Laura Silver. This free introductory session will help remove the veil of uncertainty surrounding end of life by educating on resources\, support\, and compassionate care. \nFor more information email Danielle Braitman.
URL:https://www.calgaryjcc.com/event/death-education-workshop/
LOCATION:Calgary JCC\, 1607 90 Avenue SW\, Calgary\, AB\, T2V 4V7\, Canada
CATEGORIES:Arts & Culture
ATTACH;FMTTYPE=image/png:https://www.calgaryjcc.com/wp-content/uploads/2023/10/laurasilver_web.png
END:VEVENT
END:VCALENDAR