BEGIN:VCALENDAR
VERSION:2.0
PRODID:-//Paperny Family JCC - ECPv6.15.12.2//NONSGML v1.0//EN
CALSCALE:GREGORIAN
METHOD:PUBLISH
X-WR-CALNAME:Paperny Family JCC
X-ORIGINAL-URL:https://www.calgaryjcc.com
X-WR-CALDESC:Events for Paperny Family JCC
REFRESH-INTERVAL;VALUE=DURATION:PT1H
X-Robots-Tag:noindex
X-PUBLISHED-TTL:PT1H
BEGIN:VTIMEZONE
TZID:America/Edmonton
BEGIN:DAYLIGHT
TZOFFSETFROM:-0700
TZOFFSETTO:-0600
TZNAME:MDT
DTSTART:20220313T090000
END:DAYLIGHT
BEGIN:STANDARD
TZOFFSETFROM:-0600
TZOFFSETTO:-0700
TZNAME:MST
DTSTART:20221106T080000
END:STANDARD
BEGIN:DAYLIGHT
TZOFFSETFROM:-0700
TZOFFSETTO:-0600
TZNAME:MDT
DTSTART:20230312T090000
END:DAYLIGHT
BEGIN:STANDARD
TZOFFSETFROM:-0600
TZOFFSETTO:-0700
TZNAME:MST
DTSTART:20231105T080000
END:STANDARD
BEGIN:DAYLIGHT
TZOFFSETFROM:-0700
TZOFFSETTO:-0600
TZNAME:MDT
DTSTART:20240310T090000
END:DAYLIGHT
BEGIN:STANDARD
TZOFFSETFROM:-0600
TZOFFSETTO:-0700
TZNAME:MST
DTSTART:20241103T080000
END:STANDARD
END:VTIMEZONE
BEGIN:VEVENT
DTSTART;TZID=America/Edmonton:20231112T143000
DTEND;TZID=America/Edmonton:20231112T173000
DTSTAMP:20260420T145918
CREATED:20231004T160328Z
LAST-MODIFIED:20231024T201052Z
UID:10000904-1699799400-1699810200@www.calgaryjcc.com
SUMMARY:Beach Bash
DESCRIPTION:Jump out of the cold weather and into your bathing suits! \nJoin the Steven Blitz Aquatics Centre for a blast of a time. \nNothing but fun as the entire pool will be open for family swimming. Bring your family and friends! \nYou are welcome to bring your own water gun and blow-up tubes. \nJCC members: Free\nDrop-in fee with a member: $11 per person\nDrop-in fee without a member: $14 per person \n 
URL:https://www.calgaryjcc.com/event/beach-bash-3/2023-11-12/
LOCATION:Calgary JCC\, 1607 90 Avenue SW\, Calgary\, AB\, T2V 4V7\, Canada
ATTACH;FMTTYPE=image/png:https://www.calgaryjcc.com/wp-content/uploads/2023/10/bb23_web-2.png
END:VEVENT
BEGIN:VEVENT
DTSTART;TZID=America/Edmonton:20231113T080000
DTEND;TZID=America/Edmonton:20231113T160000
DTSTAMP:20260420T145918
CREATED:20231004T160951Z
LAST-MODIFIED:20231004T160951Z
UID:10000907-1699862400-1699891200@www.calgaryjcc.com
SUMMARY:Remembrance Day (in lieu)- Building Hours
DESCRIPTION:Our building hours on Monday\, November 13 are 8:00am-4:00pm.
URL:https://www.calgaryjcc.com/event/remembrance-day-building-hours-in-lieu/
LOCATION:AB
CATEGORIES:Membership
ATTACH;FMTTYPE=image/png:https://www.calgaryjcc.com/wp-content/uploads/2022/10/jcc_300x300.png
END:VEVENT
BEGIN:VEVENT
DTSTART;TZID=America/Edmonton:20231114T120000
DTEND;TZID=America/Edmonton:20231114T140000
DTSTAMP:20260420T145918
CREATED:20231020T195651Z
LAST-MODIFIED:20231020T195826Z
UID:10000915-1699963200-1699970400@www.calgaryjcc.com
SUMMARY:Golden Age Luncheon - November 2023
DESCRIPTION:A lovely and fun way to spend a Tuesday afternoon with friends in a warm and friendly atmosphere at the JCC. Enjoy a home-cooked meal and wonderful entertainment by Karina Szulc. \n$7 for members and $10 for the public. Register at the Customer Service Desk at 403-253-8600\, ext.0 by Wednesday\, November 8. \nPowered by Calgary Jewish Federation. \nFor more information email Nessie Hollander or call 403-690-2449. \nView poster
URL:https://www.calgaryjcc.com/event/golden-age-luncheon-november-2023-2/
LOCATION:Calgary JCC\, 1607 90 Avenue SW\, Calgary\, AB\, T2V 4V7\, Canada
CATEGORIES:Golden Age
ATTACH;FMTTYPE=image/png:https://www.calgaryjcc.com/wp-content/uploads/2023/10/sl23_web_nov.png
END:VEVENT
END:VCALENDAR