BEGIN:VCALENDAR
VERSION:2.0
PRODID:-//Paperny Family JCC - ECPv6.15.12.2//NONSGML v1.0//EN
CALSCALE:GREGORIAN
METHOD:PUBLISH
X-ORIGINAL-URL:https://www.calgaryjcc.com
X-WR-CALDESC:Events for Paperny Family JCC
REFRESH-INTERVAL;VALUE=DURATION:PT1H
X-Robots-Tag:noindex
X-PUBLISHED-TTL:PT1H
BEGIN:VTIMEZONE
TZID:America/Edmonton
BEGIN:DAYLIGHT
TZOFFSETFROM:-0700
TZOFFSETTO:-0600
TZNAME:MDT
DTSTART:20230312T090000
END:DAYLIGHT
BEGIN:STANDARD
TZOFFSETFROM:-0600
TZOFFSETTO:-0700
TZNAME:MST
DTSTART:20231105T080000
END:STANDARD
BEGIN:DAYLIGHT
TZOFFSETFROM:-0700
TZOFFSETTO:-0600
TZNAME:MDT
DTSTART:20240310T090000
END:DAYLIGHT
BEGIN:STANDARD
TZOFFSETFROM:-0600
TZOFFSETTO:-0700
TZNAME:MST
DTSTART:20241103T080000
END:STANDARD
BEGIN:DAYLIGHT
TZOFFSETFROM:-0700
TZOFFSETTO:-0600
TZNAME:MDT
DTSTART:20250309T090000
END:DAYLIGHT
BEGIN:STANDARD
TZOFFSETFROM:-0600
TZOFFSETTO:-0700
TZNAME:MST
DTSTART:20251102T080000
END:STANDARD
END:VTIMEZONE
BEGIN:VEVENT
DTSTART;TZID=America/Edmonton:20240609T140000
DTEND;TZID=America/Edmonton:20240609T160000
DTSTAMP:20260420T223352
CREATED:20240522T233402Z
LAST-MODIFIED:20240522T233402Z
UID:10001356-1717941600-1717948800@www.calgaryjcc.com
SUMMARY:Moses and Roses
DESCRIPTION:Join us for an enchanting afternoon as we indulge our senses and celebrate Shavuot in community\, in partnership with Kesher. \nWe’ll engage in the art of creating beautiful flower arrangements\, delve into the rich traditions of Shavuot\, and savour a delightful ice cream bar. \nDon’t miss out on this wonderful experience! Registration closes May 29. Member: $20 – Public: $30 \nThis program is suitable for ages 13+. \nView poster
URL:https://www.calgaryjcc.com/event/moses-and-roses/
LOCATION:Calgary JCC\, 1607 90 Avenue SW\, Calgary\, AB\, T2V 4V7\, Canada
ATTACH;FMTTYPE=image/png:https://www.calgaryjcc.com/wp-content/uploads/2024/05/mr24_web.png
END:VEVENT
BEGIN:VEVENT
DTSTART;TZID=America/Edmonton:20240614T103000
DTEND;TZID=America/Edmonton:20240614T110000
DTSTAMP:20260420T223352
CREATED:20240412T224034Z
LAST-MODIFIED:20240412T224034Z
UID:10001345-1718361000-1718362800@www.calgaryjcc.com
SUMMARY:Welcome Shabbat
DESCRIPTION:Everyone is welcome to celebrate Shabbat at the JCC with songs\, candle lighting\, Kiddush\, and hamotzi.
URL:https://www.calgaryjcc.com/event/welcome-shabbat-3-2/
LOCATION:Calgary JCC\, 1607 90 Avenue SW\, Calgary\, AB\, T2V 4V7\, Canada
CATEGORIES:Arts & Culture
ATTACH;FMTTYPE=image/png:https://www.calgaryjcc.com/wp-content/uploads/2022/03/ws22_web.png
END:VEVENT
END:VCALENDAR