BEGIN:VCALENDAR
VERSION:2.0
PRODID:-//Paperny Family JCC - ECPv6.15.12.2//NONSGML v1.0//EN
CALSCALE:GREGORIAN
METHOD:PUBLISH
X-ORIGINAL-URL:https://www.calgaryjcc.com
X-WR-CALDESC:Events for Paperny Family JCC
REFRESH-INTERVAL;VALUE=DURATION:PT1H
X-Robots-Tag:noindex
X-PUBLISHED-TTL:PT1H
BEGIN:VTIMEZONE
TZID:America/Edmonton
BEGIN:DAYLIGHT
TZOFFSETFROM:-0700
TZOFFSETTO:-0600
TZNAME:MDT
DTSTART:20230312T090000
END:DAYLIGHT
BEGIN:STANDARD
TZOFFSETFROM:-0600
TZOFFSETTO:-0700
TZNAME:MST
DTSTART:20231105T080000
END:STANDARD
BEGIN:DAYLIGHT
TZOFFSETFROM:-0700
TZOFFSETTO:-0600
TZNAME:MDT
DTSTART:20240310T090000
END:DAYLIGHT
BEGIN:STANDARD
TZOFFSETFROM:-0600
TZOFFSETTO:-0700
TZNAME:MST
DTSTART:20241103T080000
END:STANDARD
BEGIN:DAYLIGHT
TZOFFSETFROM:-0700
TZOFFSETTO:-0600
TZNAME:MDT
DTSTART:20250309T090000
END:DAYLIGHT
BEGIN:STANDARD
TZOFFSETFROM:-0600
TZOFFSETTO:-0700
TZNAME:MST
DTSTART:20251102T080000
END:STANDARD
END:VTIMEZONE
BEGIN:VEVENT
DTSTART;TZID=America/Edmonton:20241013T113000
DTEND;TZID=America/Edmonton:20241013T133000
DTSTAMP:20260423T231757
CREATED:20240716T223536Z
LAST-MODIFIED:20240716T223536Z
UID:10001379-1728819000-1728826200@www.calgaryjcc.com
SUMMARY:Bouncy Castle Day October 2024
DESCRIPTION:Bring the family for a great time in our giant bouncy castle! \nFree for members | Drop-in fee for public. \nFor more information\, email Cherlene Magnuson or call 403-444-3159.
URL:https://www.calgaryjcc.com/event/bouncy-castle-october-2024/
LOCATION:Calgary JCC\, 1607 90 Avenue SW\, Calgary\, AB\, T2V 4V7\, Canada
CATEGORIES:Membership
ATTACH;FMTTYPE=image/png:https://www.calgaryjcc.com/wp-content/uploads/2023/09/bc23_web_fall-2.png
END:VEVENT
BEGIN:VEVENT
DTSTART;TZID=America/Edmonton:20241015T183000
DTEND;TZID=America/Edmonton:20241015T203000
DTSTAMP:20260423T231757
CREATED:20240919T192810Z
LAST-MODIFIED:20240919T192810Z
UID:10001407-1729017000-1729024200@www.calgaryjcc.com
SUMMARY:Embracing Menopause: Unlock Your 2.0
DESCRIPTION:A transformative workshop designed to empower you during this pivotal life stage . Mindfulness and emotional intelligence trainer Shauna Kelly creates a supportive and engaging environment to navigate perimenopause and menopause with confidence and optimism. Gain personal insights\, redefine societal narratives\, and see this phase as a launchpad for your most fulfilling years. Join us – and start your journey towards a vibrant and empowered future! \nMember: $30 | Public $40\nCode: 10616 \nAbout Shauna Kelly\nShauna Kelly is a mindset and transformational trainer\, and has journeyed through various professional realms to uncover this 2.0 version of herself. With a background in journalism and a penchant for storytelling\, Shauna understands the intricate threads that weave through our lives\, connecting past experiences to present realities. She firmly believes that understanding our personal narratives is key to unlocking our true potential and living authentically. Shauna recently became a published author in the collaborative book Heal to Lead: Stories to Turn Your Wounds Into Wisdom. She is a certified teacher of the research-backed CIJ Clarity Catalyst program based on Stanford University’s prestigious Creativity in Business Master’s curriculum. \n​
URL:https://www.calgaryjcc.com/event/embracing-menopause-unlock-your-2-0/
LOCATION:Calgary JCC\, 1607 90 Avenue SW\, Calgary\, AB\, T2V 4V7\, Canada
CATEGORIES:Fitness & Health
ATTACH;FMTTYPE=image/png:https://www.calgaryjcc.com/wp-content/uploads/2024/09/em24_web.png
END:VEVENT
BEGIN:VEVENT
DTSTART;TZID=America/Edmonton:20241016T100000
DTEND;TZID=America/Edmonton:20241023T200000
DTSTAMP:20260423T231757
CREATED:20240918T202705Z
LAST-MODIFIED:20240918T203151Z
UID:10001406-1729072800-1729713600@www.calgaryjcc.com
SUMMARY:Open Sukkah 2024
DESCRIPTION:Our beautiful sukkah is open for the community to enjoy sharing a meal or simply hanging out. \nView our daily schedule \nPrivate functions and community agencies are welcome to book the sukkah by emailing Yanina Rabinovich. Donations welcome.
URL:https://www.calgaryjcc.com/event/open-sukkah-2024/
LOCATION:Calgary JCC\, 1607 90 Avenue SW\, Calgary\, AB\, T2V 4V7\, Canada
CATEGORIES:Arts & Culture
ATTACH;FMTTYPE=image/png:https://www.calgaryjcc.com/wp-content/uploads/2021/09/os21_web.png
END:VEVENT
BEGIN:VEVENT
DTSTART;VALUE=DATE:20241018
DTEND;VALUE=DATE:20241019
DTSTAMP:20260423T231757
CREATED:20240716T213237Z
LAST-MODIFIED:20250730T220757Z
UID:10001369-1729209600-1729295999@www.calgaryjcc.com
SUMMARY:Friend Day
DESCRIPTION:Everything is better with a friend! \nMembers can bring a friend for FREE every 18th day of the month. \nFor more information call our Customer Service Desk at 403-253-8600\, x0.
URL:https://www.calgaryjcc.com/event/friend-day-2/2024-10-18/
LOCATION:Calgary JCC\, 1607 90 Avenue SW\, Calgary\, AB\, T2V 4V7\, Canada
ATTACH;FMTTYPE=image/png:https://www.calgaryjcc.com/wp-content/uploads/2020/02/ms_tagalong.png
END:VEVENT
BEGIN:VEVENT
DTSTART;TZID=America/Edmonton:20241018T103000
DTEND;TZID=America/Edmonton:20241018T110000
DTSTAMP:20260423T231757
CREATED:20240718T214938Z
LAST-MODIFIED:20240718T214938Z
UID:10001383-1729247400-1729249200@www.calgaryjcc.com
SUMMARY:Welcome Shabbat - Welcome Sukkot Edition
DESCRIPTION:Everyone is welcome to celebrate Shabbat at the JCC and Sukkot with us.
URL:https://www.calgaryjcc.com/event/welcome-shabbat-sukkot-edition/
LOCATION:Calgary JCC\, 1607 90 Avenue SW\, Calgary\, AB\, T2V 4V7\, Canada
CATEGORIES:Arts & Culture
ATTACH;FMTTYPE=image/png:https://www.calgaryjcc.com/wp-content/uploads/2022/03/ws22_web.png
END:VEVENT
END:VCALENDAR