BEGIN:VCALENDAR
VERSION:2.0
PRODID:-//Paperny Family JCC - ECPv6.15.12.2//NONSGML v1.0//EN
CALSCALE:GREGORIAN
METHOD:PUBLISH
X-ORIGINAL-URL:https://www.calgaryjcc.com
X-WR-CALDESC:Events for Paperny Family JCC
REFRESH-INTERVAL;VALUE=DURATION:PT1H
X-Robots-Tag:noindex
X-PUBLISHED-TTL:PT1H
BEGIN:VTIMEZONE
TZID:America/Edmonton
BEGIN:DAYLIGHT
TZOFFSETFROM:-0700
TZOFFSETTO:-0600
TZNAME:MDT
DTSTART:20250309T090000
END:DAYLIGHT
BEGIN:STANDARD
TZOFFSETFROM:-0600
TZOFFSETTO:-0700
TZNAME:MST
DTSTART:20251102T080000
END:STANDARD
BEGIN:DAYLIGHT
TZOFFSETFROM:-0700
TZOFFSETTO:-0600
TZNAME:MDT
DTSTART:20260308T090000
END:DAYLIGHT
BEGIN:STANDARD
TZOFFSETFROM:-0600
TZOFFSETTO:-0700
TZNAME:MST
DTSTART:20261101T080000
END:STANDARD
BEGIN:DAYLIGHT
TZOFFSETFROM:-0700
TZOFFSETTO:-0600
TZNAME:MDT
DTSTART:20270314T090000
END:DAYLIGHT
BEGIN:STANDARD
TZOFFSETFROM:-0600
TZOFFSETTO:-0700
TZNAME:MST
DTSTART:20271107T080000
END:STANDARD
END:VTIMEZONE
BEGIN:VEVENT
DTSTART;VALUE=DATE:20260309
DTEND;VALUE=DATE:20260416
DTSTAMP:20260423T050239
CREATED:20260318T204439Z
LAST-MODIFIED:20260318T204601Z
UID:10002930-1773014400-1776297599@www.calgaryjcc.com
SUMMARY:Where Season's Meet - Lisa Thomson Exhibit
DESCRIPTION:Where Seasons Meet explores the time of year when two seasons share the same landscape. While winter still shapes our world\, especially in the mountains\, signs of renewal begin to stir beneath\nand beside it. These paintings reflect a time when winter and spring coexist\, together creating moments worth cherishing. \nAbout Lisa Thomson\, ASA\nPainting is an all-consuming part of Lisa’s life—a space where time disappears and the outside world fades. Born and raised in Alberta\, she finds inspiration in the powerful landscape: first light on a mountain peak\, a storm building over the prairies\, the shifting reflections on Sylvan Lake. \nUsing playful colours and working primarily in oils\, Lisa captures scenes that spark something in her. Ideas often begin long before her brush hits the canvas—as she observes light\, colour\, and movement in her everyday life. She aims for her paintings to bring people to a moment or place that feels familiar and meaningful. \nLisa loves the action of moving paint across her canvas\, experimenting with colour and light. She believes that the joy in creating is more about the process than the final product. \nA juried member of the Alberta Society of Artists\, her work is held in public and private collections in Canada\, China\, France\, Israel\, Scotland\, and the United States. \nlisathomson.com\nalizathomson@gmail.com
URL:https://www.calgaryjcc.com/event/where-seasons-meet-lisa-thomson-exhibit/
LOCATION:Calgary JCC\, 1607 90 Avenue SW\, Calgary\, AB\, T2V 4V7\, Canada
ATTACH;FMTTYPE=image/png:https://www.calgaryjcc.com/wp-content/uploads/2026/03/ws26_web.png
END:VEVENT
BEGIN:VEVENT
DTSTART;TZID=America/Edmonton:20260413T053000
DTEND;TZID=America/Edmonton:20260413T180000
DTSTAMP:20260423T050239
CREATED:20251205T201239Z
LAST-MODIFIED:20251205T201346Z
UID:10002832-1776058200-1776103200@www.calgaryjcc.com
SUMMARY:Building Hours - Yom HaShoah
DESCRIPTION:The Paperny Family JCC will be open from 5:30am-6:00pm on Yom HaShoah.
URL:https://www.calgaryjcc.com/event/building-hours-yom-hashoah-3/
LOCATION:AB
CATEGORIES:Building Hours,Special Event
ATTACH;FMTTYPE=image/jpeg:https://www.calgaryjcc.com/wp-content/uploads/2020/02/jcc.jpg
END:VEVENT
BEGIN:VEVENT
DTSTART;TZID=America/Edmonton:20260413T091500
DTEND;TZID=America/Edmonton:20260413T101500
DTSTAMP:20260423T050239
CREATED:20251223T205519Z
LAST-MODIFIED:20260302T221007Z
UID:10002907-1776071700-1776075300@www.calgaryjcc.com
SUMMARY:Coffee & Company
DESCRIPTION:Start your week with good company and great conversation! \nJoin us every Monday morning in the Seniors Lounge for a relaxing hour of coffee\, tea\, and delicious baked treats. Reconnect with old friends\, meet new ones\, and enjoy a warm\, welcoming atmosphere. \nNo registration needed\, just drop in\, grab a cup\, and share a smile! \nMember: Free\nPublic: $5 \n*No drop-in on Feb.16
URL:https://www.calgaryjcc.com/event/coffee-company/2026-04-13/
LOCATION:Calgary JCC\, 1607 90 Avenue SW\, Calgary\, AB\, T2V 4V7\, Canada
ATTACH;FMTTYPE=image/png:https://www.calgaryjcc.com/wp-content/uploads/2025/12/cc26_jccweb.png
END:VEVENT
BEGIN:VEVENT
DTSTART;TZID=America/Edmonton:20260415T123000
DTEND;TZID=America/Edmonton:20260415T133000
DTSTAMP:20260423T050239
CREATED:20260316T221436Z
LAST-MODIFIED:20260316T221512Z
UID:10002926-1776256200-1776259800@www.calgaryjcc.com
SUMMARY:Online Fraud Prevention for Adults 55+
DESCRIPTION:Join us for an informative and engaging talk with Constable Chad Rausch\, who will explore some of the most common scams targeting older adults today. He’ll share real-world examples and practical strategies to help you protect yourself (and your loved ones) from fraud\, so you can stay informed\, confident\, and safe in an increasingly digital world. \nMember: $5 • Public $7 | Refreshments included\nCode: 12308 \nRegister online or at the Customer Service Desk.
URL:https://www.calgaryjcc.com/event/online-fraud-prevention-for-adults-55/
LOCATION:Calgary JCC\, 1607 90 Avenue SW\, Calgary\, AB\, T2V 4V7\, Canada
CATEGORIES:Golden Age
ATTACH;FMTTYPE=image/png:https://www.calgaryjcc.com/wp-content/uploads/2026/03/of26_web.png
END:VEVENT
BEGIN:VEVENT
DTSTART;VALUE=DATE:20260418
DTEND;VALUE=DATE:20260419
DTSTAMP:20260423T050239
CREATED:20240716T213237Z
LAST-MODIFIED:20250730T220757Z
UID:10002749-1776470400-1776556799@www.calgaryjcc.com
SUMMARY:Friend Day
DESCRIPTION:Everything is better with a friend! \nMembers can bring a friend for FREE every 18th day of the month. \nFor more information call our Customer Service Desk at 403-253-8600\, x0.
URL:https://www.calgaryjcc.com/event/friend-day-2/2026-04-18/
LOCATION:Calgary JCC\, 1607 90 Avenue SW\, Calgary\, AB\, T2V 4V7\, Canada
ATTACH;FMTTYPE=image/png:https://www.calgaryjcc.com/wp-content/uploads/2020/02/ms_tagalong.png
END:VEVENT
END:VCALENDAR