BEGIN:VCALENDAR
VERSION:2.0
PRODID:-//Paperny Family JCC - ECPv6.15.12.2//NONSGML v1.0//EN
CALSCALE:GREGORIAN
METHOD:PUBLISH
X-WR-CALNAME:Paperny Family JCC
X-ORIGINAL-URL:https://www.calgaryjcc.com
X-WR-CALDESC:Events for Paperny Family JCC
REFRESH-INTERVAL;VALUE=DURATION:PT1H
X-Robots-Tag:noindex
X-PUBLISHED-TTL:PT1H
BEGIN:VTIMEZONE
TZID:America/Edmonton
BEGIN:DAYLIGHT
TZOFFSETFROM:-0700
TZOFFSETTO:-0600
TZNAME:MDT
DTSTART:20210314T090000
END:DAYLIGHT
BEGIN:STANDARD
TZOFFSETFROM:-0600
TZOFFSETTO:-0700
TZNAME:MST
DTSTART:20211107T080000
END:STANDARD
BEGIN:DAYLIGHT
TZOFFSETFROM:-0700
TZOFFSETTO:-0600
TZNAME:MDT
DTSTART:20220313T090000
END:DAYLIGHT
BEGIN:STANDARD
TZOFFSETFROM:-0600
TZOFFSETTO:-0700
TZNAME:MST
DTSTART:20221106T080000
END:STANDARD
BEGIN:DAYLIGHT
TZOFFSETFROM:-0700
TZOFFSETTO:-0600
TZNAME:MDT
DTSTART:20230312T090000
END:DAYLIGHT
BEGIN:STANDARD
TZOFFSETFROM:-0600
TZOFFSETTO:-0700
TZNAME:MST
DTSTART:20231105T080000
END:STANDARD
END:VTIMEZONE
BEGIN:VEVENT
DTSTART;TZID=America/Edmonton:20221023T140000
DTEND;TZID=America/Edmonton:20221023T150000
DTSTAMP:20260419T075632
CREATED:20221007T210756Z
LAST-MODIFIED:20221007T211024Z
UID:10000693-1666533600-1666537200@www.calgaryjcc.com
SUMMARY:Teen Connect Cor.Fit
DESCRIPTION:Paperny Family JCC and BBYO Teen Connect invite all teens grade 7 and 8 for an afternoon of fun at Cor.Fit. \nCor.Fit is Calgary’s premier obstacle race and ninja training facility. \n$20 per person at the door. \nFor info contact Barry at bpechet@cjcc.ca or 403-444-3155.
URL:https://www.calgaryjcc.com/event/teen-connect-cor-fit/
LOCATION:cor.fit\, 77 Edmonton Trail NE\, Calgary
CATEGORIES:Teen
ATTACH;FMTTYPE=image/png:https://www.calgaryjcc.com/wp-content/uploads/2022/10/tc22_web_oct.png
END:VEVENT
END:VCALENDAR